BEGIN:VCALENDAR
VERSION:2.0
PRODID:-//AI Robot Maker Space - ECPv6.13.2.1//NONSGML v1.0//EN
CALSCALE:GREGORIAN
METHOD:PUBLISH
X-ORIGINAL-URL:https://airobot.ccu.edu.tw
X-WR-CALDESC:Events for AI Robot Maker Space
REFRESH-INTERVAL;VALUE=DURATION:PT1H
X-Robots-Tag:noindex
X-PUBLISHED-TTL:PT1H
BEGIN:VTIMEZONE
TZID:Asia/Taipei
BEGIN:STANDARD
TZOFFSETFROM:+0800
TZOFFSETTO:+0800
TZNAME:CST
DTSTART:20200101T000000
END:STANDARD
END:VTIMEZONE
BEGIN:VEVENT
DTSTART;TZID=Asia/Taipei:20201112T110000
DTEND;TZID=Asia/Taipei:20201112T120000
DTSTAMP:20260423T183849
CREATED:20200909T064605Z
LAST-MODIFIED:20200915T090252Z
UID:2337-1605178800-1605182400@airobot.ccu.edu.tw
SUMMARY:「數位教材研習營」系列講座
DESCRIPTION:一、        活動目標\n想要輕鬆駕馭桌面錄影？如何使用「手寫板+觸控筆」，來配合錄製螢幕教學呢？ \n數位教材的必備工具，簡報設計、後製剪輯，你get幾項技能了呢？ \n我拍的影片要上網了，但是…… \n  \n二、        活動議程\n\n\n\n「數位教材研習營」系列講座\n\n\n參加對象：本校師生、網路群眾 \n活動時間：109年9月25日(五)、10月13日(二)、11月12日(四) \n活動地點：國立中正大學智慧機器人自造基地(活動中心1樓，入口於湖畔咖啡旁。)\n\n\n活動議程： \n\n\n\n日期\n時間\n課程主題\n學習目標\n講師\n\n\n9/25(五)\n10:00~12:00\n「數位教材研習營」系列講座1\n桌面錄影軟體，結合手寫板應用。\n資工系 \n游寶達 教授 \n蔡政宇 博士\n\n\n10/13(二)\n10:00~12:00\n「數位教材研習營」系列講座2\n數位教材必備工具： \n1.     簡報設計技巧 \n2.     後製剪輯製作\n資工系 \n游寶達 教授 \n黃慧君 課程規劃師 \n蕭秀卉 課程規劃師\n\n\n11/12(四)\n11:00~12:00\n「數位教材研習營」系列講座3\n我拍的影片要上網了\n財經法律學系 \n姚信安副教授\n\n\n\n  \n【報名網址】 https://reurl.cc/gm2boR \n【活動相關】請洽：(05)272-0411 #23150(辦公室) #23199(基地) \n【注意事項】 \n1.     本次講習也同時開放給各院對於數位課程製作有興趣的教師及助理，歡迎報名參加，教學助理可納入TA研習課程。 \n2.     依據疾管署8月5日新聞稿，提醒教職員工生在出入無法保持社交距離、或會密切接觸不特定對象之人潮擁擠或密閉場所之八大類場所時，務必佩戴口罩(八大類場所如:醫療照護機構、大眾運輸、賣場市集、教育學習場所、展演競賽場所、宗教場所、娛樂場所及大型活動等)。\n\n\n\n  \n三、        主辦單位\n\n高等教育深耕計畫1-1發展創新及智慧教學模式\n大學深化數位學習推動與創新應用計畫\n\n(本活動由教育部高等教育深耕計畫及大學深化數位學習推動與創新應用計畫補助辦理)
URL:https://airobot.ccu.edu.tw/event/%e3%80%8c%e6%95%b8%e4%bd%8d%e6%95%99%e6%9d%90%e7%a0%94%e7%bf%92%e7%87%9f%e3%80%8d%e7%b3%bb%e5%88%97%e8%ac%9b%e5%ba%a7-3/
LOCATION:中正大學智慧機器人自造基地\, 民雄鄉大學路一段168號\, 嘉義縣\, 62102\, 台灣
CATEGORIES:課程/培訓/研習
ATTACH;FMTTYPE=image/jpeg:https://airobot.ccu.edu.tw/wp-content/uploads/2020/09/數位教材研習營海報海報_r1.jpg
END:VEVENT
END:VCALENDAR