BEGIN:VCALENDAR
VERSION:2.0
PRODID:-//AI Robot Maker Space - ECPv6.13.2.1//NONSGML v1.0//EN
CALSCALE:GREGORIAN
METHOD:PUBLISH
X-WR-CALNAME:AI Robot Maker Space
X-ORIGINAL-URL:https://airobot.ccu.edu.tw
X-WR-CALDESC:Events for AI Robot Maker Space
REFRESH-INTERVAL;VALUE=DURATION:PT1H
X-Robots-Tag:noindex
X-PUBLISHED-TTL:PT1H
BEGIN:VTIMEZONE
TZID:Asia/Taipei
BEGIN:STANDARD
TZOFFSETFROM:+0800
TZOFFSETTO:+0800
TZNAME:CST
DTSTART:20200101T000000
END:STANDARD
END:VTIMEZONE
BEGIN:VEVENT
DTSTART;TZID=Asia/Taipei:20201007T210000
DTEND;TZID=Asia/Taipei:20201007T220000
DTSTAMP:20260423T211625
CREATED:20200921T071619Z
LAST-MODIFIED:20201021T075243Z
UID:2422-1602104400-1602108000@airobot.ccu.edu.tw
SUMMARY:單板機與深度學習應用入門  single-board-computer-and-deep-learning
DESCRIPTION:開設學年度/學期\n108學年度課程\n\n\n課程名稱(中文)：\n單板機與深度學習應用入門\n開課單位：\n資工系\n\n\n課程名稱(英文)：\nSingle-board Computer and Deep Learning\n課程代碼：\n4101021\n\n\n授課教師：\n游寶達 教授\n\n\n學分數：\n1\n必/選修：\n選修\n開科年級：\n全校學生\n\n\n先修科目或 \n先備能力：\n無\n\n\n課程概述：\n\n\n\n學習目標：\n1.        認識單板機與輸出輸入控制 \n2.        了解Linux作業系統 \n3.        了解深度學習應用. \n4.        使用深度學習工具進行模型訓練.\n\n\n教科書：\n自編教材\n\n\n課程大綱：\n授課進度： \n\n\n\n單板機與Linux作業系統入門 \nTopic 1 樹莓派與單板機 \nTopic 2 通用輸入輸出控制 \nTopic 3 虛擬機器 \nTopic 4 Linux 作業系統 \nTopic 5 Linux 網路設定 \nTopic 6 Linux 軟體安裝 \nTopic 7 Linux 開發環境 \nTopic 8 Python 程式語言 \nTopic 9 感測器模組應用\n\n\n\n深度學習框架入門 \nTopic 1 深度學習介紹 \nTopic 2 深度學習工具介紹 \nTopic 3 深度學習安裝使用 \nTopic 4 深度學習導入案例 \nTopic 5 深度學習模型建立 \nTopic 6 深度學習驗證與預測 \nTopic 7 深度學習訓練與驗證 \nTopic 8 深度學習實例應用(CNN) \nTopic 9 深度學習實例應用(RNN)
URL:https://airobot.ccu.edu.tw/event/%e5%96%ae%e6%9d%bf%e6%a9%9f%e8%88%87%e6%b7%b1%e5%ba%a6%e5%ad%b8%e7%bf%92%e6%87%89%e7%94%a8%e5%85%a5%e9%96%80-single-board-computer-and-deep-learning-5/
LOCATION:中正大學智慧機器人自造基地\, 民雄鄉大學路一段168號\, 嘉義縣\, 62102\, 台灣
CATEGORIES:課程/培訓/研習,講座
ATTACH;FMTTYPE=image/png:https://airobot.ccu.edu.tw/wp-content/uploads/2020/06/micro-credit-poster_r4.png
END:VEVENT
BEGIN:VEVENT
DTSTART;TZID=Asia/Taipei:20201014T210000
DTEND;TZID=Asia/Taipei:20201014T220000
DTSTAMP:20260423T211625
CREATED:20200921T071953Z
LAST-MODIFIED:20201022T050401Z
UID:2424-1602709200-1602712800@airobot.ccu.edu.tw
SUMMARY:單板機與深度學習應用入門  single-board-computer-and-deep-learning
DESCRIPTION:開設學年度/學期\n108學年度課程\n\n\n課程名稱(中文)：\n單板機與深度學習應用入門\n開課單位：\n資工系\n\n\n課程名稱(英文)：\nSingle-board Computer and Deep Learning\n課程代碼：\n4101021\n\n\n授課教師：\n游寶達 教授\n\n\n學分數：\n1\n必/選修：\n選修\n開科年級：\n全校學生\n\n\n先修科目或 \n先備能力：\n無\n\n\n課程概述：\n\n\n\n學習目標：\n1.        認識單板機與輸出輸入控制 \n2.        了解Linux作業系統 \n3.        了解深度學習應用. \n4.        使用深度學習工具進行模型訓練.\n\n\n教科書：\n自編教材\n\n\n課程大綱：\n授課進度： \n\n\n\n單板機與Linux作業系統入門 \nTopic 1 樹莓派與單板機 \nTopic 2 通用輸入輸出控制 \nTopic 3 虛擬機器 \nTopic 4 Linux 作業系統 \nTopic 5 Linux 網路設定 \nTopic 6 Linux 軟體安裝 \nTopic 7 Linux 開發環境 \nTopic 8 Python 程式語言 \nTopic 9 感測器模組應用\n\n\n\n深度學習框架入門 \nTopic 1 深度學習介紹 \nTopic 2 深度學習工具介紹 \nTopic 3 深度學習安裝使用 \nTopic 4 深度學習導入案例 \nTopic 5 深度學習模型建立 \nTopic 6 深度學習驗證與預測 \nTopic 7 深度學習訓練與驗證 \nTopic 8 深度學習實例應用(CNN) \nTopic 9 深度學習實例應用(RNN)
URL:https://airobot.ccu.edu.tw/event/%e5%96%ae%e6%9d%bf%e6%a9%9f%e8%88%87%e6%b7%b1%e5%ba%a6%e5%ad%b8%e7%bf%92%e6%87%89%e7%94%a8%e5%85%a5%e9%96%80-single-board-computer-and-deep-learning-6/
LOCATION:中正大學智慧機器人自造基地\, 民雄鄉大學路一段168號\, 嘉義縣\, 62102\, 台灣
CATEGORIES:課程/培訓/研習,講座
END:VEVENT
BEGIN:VEVENT
DTSTART;TZID=Asia/Taipei:20201021T210000
DTEND;TZID=Asia/Taipei:20201021T220000
DTSTAMP:20260423T211625
CREATED:20200921T072344Z
LAST-MODIFIED:20201022T050204Z
UID:2427-1603314000-1603317600@airobot.ccu.edu.tw
SUMMARY:單板機與深度學習應用入門  single-board-computer-and-deep-learning
DESCRIPTION:開設學年度/學期\n108學年度課程\n\n\n課程名稱(中文)：\n單板機與深度學習應用入門\n開課單位：\n資工系\n\n\n課程名稱(英文)：\nSingle-board Computer and Deep Learning\n課程代碼：\n4101021\n\n\n授課教師：\n游寶達 教授\n\n\n學分數：\n1\n必/選修：\n選修\n開科年級：\n全校學生\n\n\n先修科目或 \n先備能力：\n無\n\n\n課程概述：\n\n\n\n學習目標：\n1.        認識單板機與輸出輸入控制 \n2.        了解Linux作業系統 \n3.        了解深度學習應用. \n4.        使用深度學習工具進行模型訓練.\n\n\n教科書：\n自編教材\n\n\n課程大綱：\n授課進度： \n\n\n\n單板機與Linux作業系統入門 \nTopic 1 樹莓派與單板機 \nTopic 2 通用輸入輸出控制 \nTopic 3 虛擬機器 \nTopic 4 Linux 作業系統 \nTopic 5 Linux 網路設定 \nTopic 6 Linux 軟體安裝 \nTopic 7 Linux 開發環境 \nTopic 8 Python 程式語言 \nTopic 9 感測器模組應用\n\n\n\n深度學習框架入門 \nTopic 1 深度學習介紹 \nTopic 2 深度學習工具介紹 \nTopic 3 深度學習安裝使用 \nTopic 4 深度學習導入案例 \nTopic 5 深度學習模型建立 \nTopic 6 深度學習驗證與預測 \nTopic 7 深度學習訓練與驗證 \nTopic 8 深度學習實例應用(CNN) \nTopic 9 深度學習實例應用(RNN)
URL:https://airobot.ccu.edu.tw/event/%e5%96%ae%e6%9d%bf%e6%a9%9f%e8%88%87%e6%b7%b1%e5%ba%a6%e5%ad%b8%e7%bf%92%e6%87%89%e7%94%a8%e5%85%a5%e9%96%80-single-board-computer-and-deep-learning-7/
LOCATION:中正大學智慧機器人自造基地\, 民雄鄉大學路一段168號\, 嘉義縣\, 62102\, 台灣
CATEGORIES:課程/培訓/研習,講座
ATTACH;FMTTYPE=image/png:https://airobot.ccu.edu.tw/wp-content/uploads/2020/06/micro-credit-poster_r4.png
END:VEVENT
BEGIN:VEVENT
DTSTART;TZID=Asia/Taipei:20201028T210000
DTEND;TZID=Asia/Taipei:20201028T220000
DTSTAMP:20260423T211625
CREATED:20200921T073615Z
LAST-MODIFIED:20201022T050134Z
UID:2429-1603918800-1603922400@airobot.ccu.edu.tw
SUMMARY:單板機與深度學習應用入門  single-board-computer-and-deep-learning
DESCRIPTION:開設學年度/學期\n108學年度課程\n\n\n課程名稱(中文)：\n單板機與深度學習應用入門\n開課單位：\n資工系\n\n\n課程名稱(英文)：\nSingle-board Computer and Deep Learning\n課程代碼：\n4101021\n\n\n授課教師：\n游寶達 教授\n\n\n學分數：\n1\n必/選修：\n選修\n開科年級：\n全校學生\n\n\n先修科目或 \n先備能力：\n無\n\n\n課程概述：\n\n\n\n學習目標：\n1.        認識單板機與輸出輸入控制 \n2.        了解Linux作業系統 \n3.        了解深度學習應用. \n4.        使用深度學習工具進行模型訓練.\n\n\n教科書：\n自編教材\n\n\n課程大綱：\n授課進度： \n\n\n\n單板機與Linux作業系統入門 \nTopic 1 樹莓派與單板機 \nTopic 2 通用輸入輸出控制 \nTopic 3 虛擬機器 \nTopic 4 Linux 作業系統 \nTopic 5 Linux 網路設定 \nTopic 6 Linux 軟體安裝 \nTopic 7 Linux 開發環境 \nTopic 8 Python 程式語言 \nTopic 9 感測器模組應用\n\n\n\n深度學習框架入門 \nTopic 1 深度學習介紹 \nTopic 2 深度學習工具介紹 \nTopic 3 深度學習安裝使用 \nTopic 4 深度學習導入案例 \nTopic 5 深度學習模型建立 \nTopic 6 深度學習驗證與預測 \nTopic 7 深度學習訓練與驗證 \nTopic 8 深度學習實例應用(CNN) \nTopic 9 深度學習實例應用(RNN)
URL:https://airobot.ccu.edu.tw/event/%e5%96%ae%e6%9d%bf%e6%a9%9f%e8%88%87%e6%b7%b1%e5%ba%a6%e5%ad%b8%e7%bf%92%e6%87%89%e7%94%a8%e5%85%a5%e9%96%80-single-board-computer-and-deep-learning-8/
LOCATION:中正大學智慧機器人自造基地\, 民雄鄉大學路一段168號\, 嘉義縣\, 62102\, 台灣
CATEGORIES:課程/培訓/研習,講座
ATTACH;FMTTYPE=image/png:https://airobot.ccu.edu.tw/wp-content/uploads/2020/06/micro-credit-poster_r4.png
END:VEVENT
END:VCALENDAR