BEGIN:VCALENDAR
VERSION:2.0
PRODID:-//AI Robot Maker Space - ECPv6.13.2.1//NONSGML v1.0//EN
CALSCALE:GREGORIAN
METHOD:PUBLISH
X-WR-CALNAME:AI Robot Maker Space
X-ORIGINAL-URL:https://airobot.ccu.edu.tw
X-WR-CALDESC:Events for AI Robot Maker Space
REFRESH-INTERVAL;VALUE=DURATION:PT1H
X-Robots-Tag:noindex
X-PUBLISHED-TTL:PT1H
BEGIN:VTIMEZONE
TZID:Asia/Taipei
BEGIN:STANDARD
TZOFFSETFROM:+0800
TZOFFSETTO:+0800
TZNAME:CST
DTSTART:20180101T000000
END:STANDARD
END:VTIMEZONE
BEGIN:VEVENT
DTSTART;TZID=Asia/Taipei:20180926T180000
DTEND;TZID=Asia/Taipei:20180926T213000
DTSTAMP:20260423T172025
CREATED:20180817T014057Z
LAST-MODIFIED:20180914T024243Z
UID:403-1537984800-1537997400@airobot.ccu.edu.tw
SUMMARY:大數據分析價值創新課程(1)
DESCRIPTION:  \n「大數據分析價值創新課程」以系列課程方式進行活動，活動主題為大數據相關應用。本次課程邀請王啟岳博士分享大數據的分析技巧、如何基於數據作決策、類神經網路分析、工業4.0企業等面向，課程共分為３次，每次３小時，見林篇、見樹篇、綜合實作篇，因循漸進引導教學；課程末尾留有實作練習與綜合討論，使參與者融會貫通並互動交流。 \n上課日期：2018/09/26(三)、10/3(三)、10/24(三) \n\n\n\n9月26日(三)\n大數據分析價值創新課程 \n單元一：見樹篇\n\n\n10月3日(三)\n大數據分析價值創新課程 \n單元二：見林篇\n\n\n10月24日(三)\n大數據分析價值創新課程 \n單元三：實戰篇\n\n\n\n上課地點：中正大學南科創新育成基地會議室 \n報名網址：http://techpromot.ccu.edu.tw/event/showEvent/48
URL:https://airobot.ccu.edu.tw/event/%e5%a4%a7%e6%95%b8%e6%93%9a%e5%88%86%e6%9e%90%e5%83%b9%e5%80%bc%e5%89%b5%e6%96%b0%e8%aa%b2%e7%a8%8b/
LOCATION:中正大學南科創新育成基地會議室
CATEGORIES:課程/培訓/研習
ATTACH;FMTTYPE=image/png:https://airobot.ccu.edu.tw/wp-content/uploads/2018/08/2018大數據分析價值創新課程_r6-1.png
END:VEVENT
BEGIN:VEVENT
DTSTART;TZID=Asia/Taipei:20180925T180000
DTEND;TZID=Asia/Taipei:20180925T213000
DTSTAMP:20260423T172025
CREATED:20180907T023936Z
LAST-MODIFIED:20180914T030439Z
UID:434-1537898400-1537911000@airobot.ccu.edu.tw
SUMMARY:樂高認真玩，玩出創新力-PM篇
DESCRIPTION:樂高認真玩，玩出創新力-PM篇\n公司競爭力與組織成員息息相關，而每位成員都擁有巨大未開發的潛力。“手的知識”，透過手部實際運作與大腦連結，能使大腦產生最大動力，既而成為人類發展的核心。透過本次樂高主題課程，激發成員以想像力來解決團隊與個人問題。 \n主講人:楊宗憲 \n時間：107年09月25日 18：30～21：30 \n地點：南部科學工業園區．中正大學南科創新育成基地，教育訓練教室 \n（南科三路Park17商場三樓，商場後方之「己」電梯 ） \n費用：免費 \n主講人介紹:楊宗憲 \n有著多年跨產業經驗，Sam老師在不同產業有各式商務企劃、國際業務發展、產品服務開發、專案管理等相關資歷，熟稔跨文化跨領域整合溝通協調及創新創業管理。專注於有效解決問題、創造價值。喜歡從企業／組織的需求出發，用深入淺出的諮詢與引導方式，佐以適時的案例討論及實作演練，期使組織對該議題有著深刻的體會。 \nSam老師除了擔任諮詢輔導顧問外，也是認證LEGO® SERIOUS PLAY®(LSP) 方法引導師與工作坊設計者、LSP Taiwan 的主要推廣者之一、也是全球LSP主培訓師在台合作夥伴。Sam老師 同時也是正體中文版 \n《樂高認真玩：打造成功優質的企業團隊》一書的審訂。 \n主辦：中正大學南科創新育成基地 \n指導單位：科技部 \n補助單位：科技部南部科學工業園區管理局 \n執行單位：南科AI_ROBOT自造基地＠中正大學智慧機器人自造基地 \n克斯安森管理顧問有限公司 \n洽詢窗口： (06) 505-1370（中正大學南科創新育成基地） \n  \n 
URL:https://airobot.ccu.edu.tw/event/%e6%a8%82%e9%ab%98%e8%aa%8d%e7%9c%9f%e7%8e%a9%ef%bc%8c%e7%8e%a9%e5%87%ba%e5%89%b5%e6%96%b0%e5%8a%9b-pm%e7%af%87/
CATEGORIES:課程/培訓/研習
ATTACH;FMTTYPE=image/png:https://airobot.ccu.edu.tw/wp-content/uploads/2018/09/樂高認真玩_玩出創新力_r2-2.png
END:VEVENT
BEGIN:VEVENT
DTSTART;VALUE=DATE:20180917
DTEND;VALUE=DATE:20180918
DTSTAMP:20260423T172025
CREATED:20180601T151656Z
LAST-MODIFIED:20180914T025439Z
UID:180-1537142400-1537228799@airobot.ccu.edu.tw
SUMMARY:2018台日法遵科技(RegTech)與電腦稽核國際交流論壇暨種子師資培訓營
DESCRIPTION:為了促進國際學術交流與人才培育，中正大學智慧機器人自造基地金融科技組增加辦理「2018台日法遵科技(RegTech)與電腦稽核國際交流論壇暨種子師資培訓營」。以「法遵科技(RegTech)」、「智慧運用的電腦稽核」、「金融科技」為本次論壇的活動主軸，並邀請前日本東北大學副校長/現國立中正大學會計與資訊科技學系教授高田敏文博士、日本安永會計師事務所執行長Mr. Sakaki、日本安永聯合會計師事務所經理Ms. Inokuma、日本ICAEA國際電腦稽核教育協會日本分會長與日本勤業眾信會計師事務所合夥人Mr. Yumiba。本論壇期待推廣在台金融科技、法遵科技、人工智慧的學理、實務應用，更希望透過此論壇達到台日學者專業溝通、經驗交流的平台。 \n\n\n\n\n2018年9月17日（星期一）國立中正大學台北辦事處 \nTime: 09/17/2018 \nLocation: Taipei Office\, National Chung Cheng University\, Taiwan \n\n\n\n時間 Time\n議程內容 Agenda\n\n\n10:00-12:00\n研究合作討論(Research Cooperation Discussion) \n(Not Open for public不對外開放\,小會議室)\n\n\n12:00-13:30\n午餐 (Lunch)\n\n\n13:00-13:30\n報到 (Registration)\n\n\n13:30-13:50\n開幕式 (Open Remark)\n\n\n黃士銘博士　國立中正大學研發長 \nDr. Shi-Ming Huang\, Dean of Research and Development\, National Chung Cheng University \n高田敏文博士 前日本東北大學副校長/國立中正大學會計與資訊科技學系教授\n\n\n貴賓致詞: \n黃慶堂博士　農業信保基金總經理 \nDr. HUANG\, CHIN-TAN\nGeneral Manager\, Agricultural Credit Guarantee Fund\, Taiwan\n\n\n13:50-15:00\nSection 1: University and Industry Co-Teaching for Regtech/Computer Auditing \n主題一: 法遵科技與電腦稽核產學合作教學\n\n\n主持人\n卓佳慶博士 \n國立中正大學會計與資訊科技學系教授\n\n\n演講者\n日本代表： \nMr. Masatoshi Sakaki CPA\, Executive Partner of EY日本安永聯合會計師事務所執行長 \nMs. Hiroko Inokum CPA\, Manager of EY日本安永聯合會計師事務所經理 \n台灣代表： \n孫嘉明博士　國立雲林科技大學會計系教授\n\n\nQ&A\n\n\n15:00-15:30\nCoffee Break\n\n\n15:30-16:40\nSection 2: Professional Certificate for Regtech/Computer Auditing \n主題二: 法遵科技與電腦稽核專業證照推廣\n\n\n主持人\n黃士銘博士 \n國立中正大學會計與資訊科技學系教授\n\n\n演講者\n日本代表： \nMr. Keiji Yumiba ICCP\, CPA\, Representative of ICAEA日本ICAEA國際電腦稽核教育協會日本分會長、日本勤業眾信會計師事務所合夥人 \nDr. Toshifumi Takada CPA\,前日本東北大學副校長/會計學系教授 \n台灣代表： \n林琦珍博士　國立臺北商業大學會計資訊系教授\n\n\nQ&A\n\n\n16:40-17:30\nClose Remark \n座談會\n\n\n\n報名網址： https://goo.gl/wUSFbj \n費用：免費 \n\n\n聯絡資訊：\n\n國立中正大學製商整合研究中心王小姐\n\n電話:05-2720411-16811\n信箱:cmca481@gmail.com
URL:https://airobot.ccu.edu.tw/event/2018%e5%8f%b0%e6%97%a5%e6%b3%95%e9%81%b5%e7%a7%91%e6%8a%80regtech%e8%88%87%e9%9b%bb%e8%85%a6%e7%a8%bd%e6%a0%b8%e5%9c%8b%e9%9a%9b%e4%ba%a4%e6%b5%81%e8%ab%96%e5%a3%87%e6%9a%a8%e7%a8%ae%e5%ad%90%e5%b8%ab/
LOCATION:國立中正大學台北辦事處\, 台北市中正區許昌街17號10樓之二\, 台北市\, 台灣
CATEGORIES:課程/培訓/研習
ATTACH;FMTTYPE=image/png:https://airobot.ccu.edu.tw/wp-content/uploads/2018/06/2018台日法遵科技RegTech與電腦稽核國際交流論壇暨種子師資培訓營.png
END:VEVENT
BEGIN:VEVENT
DTSTART;TZID=Asia/Taipei:20180915T083000
DTEND;TZID=Asia/Taipei:20180915T120000
DTSTAMP:20260423T172025
CREATED:20180801T085606Z
LAST-MODIFIED:20180914T023650Z
UID:385-1537000200-1537012800@airobot.ccu.edu.tw
SUMMARY:無人機空拍實務操作
DESCRIPTION:近年來無人載具技術的興起、自造成本低廉，因此受到民眾及Maker的青睞，為提升民眾對無人載具及空拍攝影的知識及實際操作，衛星基地開設「無人機空拍實務操作」課程，讓學員動手自造無人載具，學習無人機相關知識，透過課程講師的現場飛行操作和解說讓學員能實際體驗及學習，除了自造無人載具，課程講師會使用專業型的無人載具進行飛行示範及操作說明，用以推廣無人載具及空拍飛行技術，促進熱衷人士投入無人機產業，共同邁向航空2.0。 \n課程時間：2018/09/15(六) 08:30~12:00 \n授課對象：有志學習無人機操作之民眾 \n名額：30位(額滿為止，備取10名) \n報名費用：免費報名 \n上課地點：中正大學智慧機器人自造基地、中正大學操場 \n  \n訊息公告http://ai-robot-stsp.tw/event/無人機空拍實務操作/ \n線上報名https://goo.gl/sDJeY5 \n課程報名問題洽詢： \n國立中正大學 智慧機器人自造基地 何先生 \n電話：(05)2720411轉23150 \n\n\n\n信箱：neroisvogue@gmail.com \n課程安排\n\n\n \n 
URL:https://airobot.ccu.edu.tw/event/%e7%84%a1%e4%ba%ba%e6%a9%9f%e7%a9%ba%e6%8b%8d%e5%af%a6%e5%8b%99%e6%93%8d%e4%bd%9c/
CATEGORIES:課程/培訓/研習
ATTACH;FMTTYPE=image/png:https://airobot.ccu.edu.tw/wp-content/uploads/2018/08/2018無人機空拍實務操作_r5.png
END:VEVENT
BEGIN:VEVENT
DTSTART;TZID=Asia/Taipei:20180828T093000
DTEND;TZID=Asia/Taipei:20180828T150000
DTSTAMP:20260423T172025
CREATED:20180720T005234Z
LAST-MODIFIED:20180914T021457Z
UID:365-1535448600-1535468400@airobot.ccu.edu.tw
SUMMARY:2018人工智慧之深度計算入門
DESCRIPTION:線上報名：https://goo.gl/forms/zViUUgVHdq3XzWzg1 \n活動地點：中正大學 智慧機器人自造基地 \n「人工智慧之深度計算入門」人工智慧人才培育課程，以人工智慧簡史開始介紹，並說明機器學習與深度學習的差異。課程以類神經網路開始介紹，並延伸至各種常見的類神經網路模型，並介紹適合入門使用的深度學習框架，包含Caffe、TensorFlow、CNTK、Keras…等，並實際演練深度學習框架之案例使用。 \n\n\n\n時間\n課程內容\n\n\n09:30~10:10\n報到\n\n\n10:10~11:00\n深度學習的發展與成功案例\n\n\n11:10~12:00\n深度學習框架操作Caffe\n\n\n12:00~13:00\n午餐\n\n\n13:10~14:00\n深度學習框架操作TensorFlow\n\n\n14:10~15:00\n深度學習框架操作Keras\n\n\n\n 
URL:https://airobot.ccu.edu.tw/event/2018%e4%ba%ba%e5%b7%a5%e6%99%ba%e6%85%a7%e4%b9%8b%e6%b7%b1%e5%ba%a6%e8%a8%88%e7%ae%97%e5%85%a5%e9%96%80/
LOCATION:中正大學智慧機器人自造基地\, 民雄鄉大學路一段168號\, 嘉義縣\, 62102\, 台灣
CATEGORIES:課程/培訓/研習
ATTACH;FMTTYPE=image/png:https://airobot.ccu.edu.tw/wp-content/uploads/2018/07/2018人工智慧之深度計算入門_r5.png
END:VEVENT
BEGIN:VEVENT
DTSTART;TZID=Asia/Taipei:20180815T093000
DTEND;TZID=Asia/Taipei:20180815T150000
DTSTAMP:20260423T172025
CREATED:20180727T025720Z
LAST-MODIFIED:20180914T022139Z
UID:375-1534325400-1534345200@airobot.ccu.edu.tw
SUMMARY:智慧自造種子教師培訓營
DESCRIPTION:智慧自造種子教師培訓營\n為推廣Maker智慧自造人才培育，進而有效地擴散Maker人才培訓，需要有更多的Maker教師投入其中。衛星基地邀請Maker自造講師團隊，開設智慧自造種子教師培訓營，提升教師們的Maker核心素養及教學策略，透過課程講師的案例實作，以及與老師們的心得分享，討論如何引出學生由「想」到「做」的Maker精神。 \n課程時間：2018/08/15(三) 09:30~15:00 \n授課對象：對機器人教育有興趣之國中小學教師 \n名額：20位(額滿為止) \n報名費用：免費報名 \n上課地點：中正大學自造基地 \n  \n訊息公告http://ai-robot-stsp.tw/event/智慧自造種子教師培訓營/ \n線上報名https://goo.gl/D6sR9Y \n  \n課程報名問題洽詢： \n國立中正大學 智慧機器人自造基地 何先生 \n電話：(05)2720411轉23150 \n\n\n\n信箱：neroisvogue@gmail.com \n  \n\n\n辦理單位\n指導單位：科技部 \n輔助單位：科技部南部科學工業園區管理局 \n執行單位：南科AI_ROBOT自造基地@中正大學智慧機器人自造基地 \n \n課程安排 \n\n\n\n\n\n\n\n \n\n\n\n重要日程\n \n\n\n 
URL:https://airobot.ccu.edu.tw/event/%e6%99%ba%e6%85%a7%e8%87%aa%e9%80%a0%e7%a8%ae%e5%ad%90%e6%95%99%e5%b8%ab%e5%9f%b9%e8%a8%93%e7%87%9f/
LOCATION:中正大學智慧機器人自造基地\, 民雄鄉大學路一段168號\, 嘉義縣\, 62102\, 台灣
CATEGORIES:課程/培訓/研習
ATTACH;FMTTYPE=image/png:https://airobot.ccu.edu.tw/wp-content/uploads/2018/07/2018智慧自造種子教師培訓營_r4.png
END:VEVENT
BEGIN:VEVENT
DTSTART;VALUE=DATE:20180804
DTEND;VALUE=DATE:20180808
DTSTAMP:20260423T172025
CREATED:20180601T151614Z
LAST-MODIFIED:20180802T090053Z
UID:177-1533340800-1533686399@airobot.ccu.edu.tw
SUMMARY:2018 暑期Maker營隊(第一場8/4\,5 第二場8/6\,7)
DESCRIPTION:**由於報名人數眾多、反應熱絡，衛星基地決定加開場次，第二場次時間為08.06 (一) ～ 08.07 (二) 09:00 – 17:00 ，將電話連絡第二場次遞補之參與學員，亦於前一周寄送相關資訊至個家長所填寫的e-mail，屆時請記得查看信件。 \n第一場次\n活動時間：2018.08.04 (六) ～ 08.05 (日) 09:00 – 17:00\n第二場次\n活動時間：2018.08.06 (一) ～ 08.07 (二) 09:00 – 17:00
URL:https://airobot.ccu.edu.tw/event/2018-%e6%9a%91%e6%9c%9fmaker%e7%87%9f%e9%9a%8a/
LOCATION:中正大學智慧機器人自造基地\, 民雄鄉大學路一段168號\, 嘉義縣\, 62102\, 台灣
ATTACH;FMTTYPE=image/png:https://airobot.ccu.edu.tw/wp-content/uploads/2018/06/2018暑期Maker營隊_DM_A1_r4.png
END:VEVENT
BEGIN:VEVENT
DTSTART;TZID=Asia/Taipei:20180709T153000
DTEND;TZID=Asia/Taipei:20180709T163000
DTSTAMP:20260423T172025
CREATED:20180706T095043Z
LAST-MODIFIED:20180706T095446Z
UID:352-1531150200-1531153800@airobot.ccu.edu.tw
SUMMARY:Fintech環境下創新服務模式座談會
DESCRIPTION:活動報名：https://goo.gl/forms/QH2w34VdyJUJtmFv2 \nFintech環境下創新服務模式座談會，由中正大學智慧機器人自造基地，金融科技應用組辦理之專家座談會議，目的在進行國際專家與中正大學智慧機器人自造基地的學術及實務上的討論交流，議題涵蓋人工智慧、大數據、雲端計算、金融科技等。本次的專家座談交流預期，可以讓來至全台參與的專家、學者、師生，了解海外人工智慧、智慧製造之生態圈發展現狀。 \nFintech環境下創新服務模式座談會，在2018年7月9日15:30-16:30，於中正大學校內辦理。Kuo-Ming Chao教授將以歐盟幾項製造電子化(e-Manufacturing)的案例，點出商業資訊學(Business Informatics)及人工智慧、雲端計算的應用端。此外，英國是全球著名的金融科技的領先國家，不論是學理發展、技術研發、金融監理沙盒的運作，都引領世界潮流。目前台灣的金融科技在起步的階段，可藉由此次座談會的交流，了解英國的金融科技生態及未來的發展趨勢，提升我國人才的國際視野。 \n 
URL:https://airobot.ccu.edu.tw/event/fintech%e7%92%b0%e5%a2%83%e4%b8%8b%e5%89%b5%e6%96%b0%e6%9c%8d%e5%8b%99%e6%a8%a1%e5%bc%8f%e5%ba%a7%e8%ab%87%e6%9c%83/
LOCATION:中正大學研發處會議室
ATTACH;FMTTYPE=image/png:https://airobot.ccu.edu.tw/wp-content/uploads/2018/07/WordDM_r2.png
END:VEVENT
BEGIN:VEVENT
DTSTART;VALUE=DATE:20180706
DTEND;VALUE=DATE:20180707
DTSTAMP:20260423T172025
CREATED:20180619T040900Z
LAST-MODIFIED:20180619T041053Z
UID:309-1530835200-1530921599@airobot.ccu.edu.tw
SUMMARY:金融科技企業經營與財務風險管理實務論壇
DESCRIPTION:論壇議程\n\n\n2018年7月06日(星期五)\n\n\n時間\n內容\n地點\n\n\n13:10-13:30\n報到\n中正大學\n南科創新育成基地會議室\n\n\n13:30-13:40\n開場致詞 \n中正大學會計與資訊科技學系暨研究所 \n林岳喬 專任副教授暨學程執行長\n中正大學\n南科創新育成基地會議室\n\n\n13:40-14:10\n運用大數據解析中國企業信用風險 \n法商科法斯台灣分公司 \n張育立 總經理\n中正大學\n南科創新育成基地會議室\n\n\n14:10-15:10\n企業法律風險實務－談採購與交易契約實務 \n博胤法律事務所 \n陳健 律師\n中正大學\n南科創新育成基地會議室\n\n\n15:10-15:20\n休息與交流時間\n中正大學 \n南科創新育成基地會議室\n\n\n15:20-16:20\n互聯網時代下信用風險管理及催收實務應用 \n法商科法斯台灣分公司 \n理賠及催收部 鄧昌國 經理 \n業務部  劉雲雄 經理\n中正大學 \n南科創新育成基地會議室\n\n\n16:20-16:30\n產學技術推廣說明與綜合討論 \n中正大學研發處技術推廣中心 \n南科創新育成基地 \n楊世億經理\n中正大學 \n南科創新育成基地會議室
URL:https://airobot.ccu.edu.tw/event/%e9%87%91%e8%9e%8d%e7%a7%91%e6%8a%80%e4%bc%81%e6%a5%ad%e7%b6%93%e7%87%9f%e8%88%87%e8%b2%a1%e5%8b%99%e9%a2%a8%e9%9a%aa%e7%ae%a1%e7%90%86%e5%af%a6%e5%8b%99%e8%ab%96%e5%a3%87/
LOCATION:中正大學南科創新育成基地會議室
CATEGORIES:論壇/研討會
ATTACH;FMTTYPE=image/png:https://airobot.ccu.edu.tw/wp-content/uploads/2018/06/fintech_r1.png
END:VEVENT
BEGIN:VEVENT
DTSTART;VALUE=DATE:20180628
DTEND;VALUE=DATE:20180630
DTSTAMP:20260423T172025
CREATED:20180601T151454Z
LAST-MODIFIED:20180609T010446Z
UID:175-1530144000-1530316799@airobot.ccu.edu.tw
SUMMARY:法遵科技與電腦稽核卓越營
DESCRIPTION:Academic Workshop on Regtech and Computer Auditing\n會議日期時間：2018年6月28日~6月29日 \n會議地點：中正大學創新大樓5樓，個案教室 \n\n緣起與特色\n\n因應金融科技產業的興起，為了加速金融科技之發展與程式技術之研發，卓越營作為金融科技(Fintech)與法遵科技(Regtech)學術、實務交流，以及透過學術論文發表，由專家直接指導、建議之平台。\n「法遵科技與電腦稽核卓越營」兩個亮點是，專家專題講座、專家指導指導論文。\n\n\n專題演講 (2018年6月28日)\n\n我們邀請到國際電腦稽核的新星TAWEI (DAVID) WANG(王大維)助理教授，原受聘於台灣大學(2009-2011)，目前已轉任教於美國Purdue University會計與資訊科技學院。已發表國際知名期刊共33篇，橫跨會計、金融、資訊管理領域，包括Information Systems Research\, Information Systems Research\, Decision Support Systems\, European Journal of Information Systems\, Information and Management\, Information Systems Journal\, Journal of Accounting and Public Policy\, Journal of Banking and Finance\, Journal of Information Systems。Brigham Young University accounting researcher ranking，王大維老師在AIS研究學者排名第二，並期刊被下載超過22\,000次。王大維老師的專長是電腦稽核、CAATs、Fintech、Regtech的專家。\n主講題目：The Effect of Competitive Actions and Social Media Perceptions on Offline Car Sales after Automobile Recalls\n有意者，請至網址 https://docs.google.com/forms/d/1oX0NjcK_EytJIzWFz2GHbHNweX1zm6E93gU-fWjuqBk\n\n\n論文發表、面對面指導\n\n卓越營接受金融科技(Fintech)、法遵科技(Regtech)、電腦稽核、金融、資訊管理相關領域議題的論文。\n論文發表形式，口頭發表論文。(注意事項，論文發表時間約20分鐘)、論文不限格式。統一彙整成論文集。\n所有論文發表者口頭報告後，統一由王大維老師評論、建議。\n有意者，請至網址(6/29日，中午有提供會議餐點)\n\n\n\nhttps://docs.google.com/forms/d/1zzNI4JHlg7Ap6gS5jNRMXMTRva8yl9xta2MEqPfBs8M \n\n論文發表收件說明\n\n稿件截稿日期：即日起至2018年6月26日。\n稿件寄送方式：以電子信箱，將論文電子檔投稿至t.player@gmail.com。\n\n\n郵件主旨：法遵科技與電腦稽核卓越營投稿_作者姓名_學校系所\n論文電子檔：(1)Word檔；(2)PDF檔，電子檔檔名：論文名稱_作者姓名_發表者姓名。\n稿件送出後，我們會以電子郵件回覆通知。\n\n專家講座報名截止日期：即日起至2018年6月27日。
URL:https://airobot.ccu.edu.tw/event/%e6%b3%95%e9%81%b5%e7%a7%91%e6%8a%80%e8%88%87%e9%9b%bb%e8%85%a6%e7%a8%bd%e6%a0%b8%e5%8d%93%e8%b6%8a%e7%87%9f/
LOCATION:中正大學智慧機器人自造基地\, 民雄鄉大學路一段168號\, 嘉義縣\, 62102\, 台灣
CATEGORIES:論壇/研討會
ATTACH;FMTTYPE=image/jpeg:https://airobot.ccu.edu.tw/wp-content/uploads/2018/06/2018062829卓越營.jpg
END:VEVENT
BEGIN:VEVENT
DTSTART;VALUE=DATE:20180620
DTEND;VALUE=DATE:20180621
DTSTAMP:20260423T172025
CREATED:20180607T044635Z
LAST-MODIFIED:20180609T004856Z
UID:267-1529452800-1529539199@airobot.ccu.edu.tw
SUMMARY:2018 Fintech下的機會與挑戰-法遵科技與電腦稽核國際人才發展論壇
DESCRIPTION:活動主旨\n業在2008金融海嘯後所投入的法規遵循費用超過3200億美元，因此金融業未來最想聘用哪些人才？「可以使用資訊科技來降低成本強化法令遵循以及風險控制人才就變得非常需要」。 \n國際電腦稽核教育協會(ICAEA)有鑑於此，特別與國立中正大學智慧機器人自造基地、致理科技大學金融科技創新實務菁英訓練基地攜手合作，期望透過國際的視野與實務的經驗分享，探討學習法遵科技(Regtech)與電腦稽核科技對金融人的機會與挑戰，讓資訊背景的人有機會可以轉戰稽核或財金背景的人能順利從前台轉型後台監控管理，讓我們人才培育跟國際接軌，具有新的視野與新方向。 \n活動細節\n\n\n\n時　　間\n2018/06/20(三) 09:30~12:00\n\n\n地　　點\n集思台大會議中心米開朗基羅廳 【詳細地圖】\n(台北市羅斯福路4段85號B1)\n\n\n主辦單位\n國立中正大學智慧機器人自造基地\n國際電腦稽核教育協會(ICAEA)\n\n\n協辦單位\n致理科技大學金融科技創新實務菁英訓練基地\n傑克商業自動化股份有限公司\n\n\n聯絡方式\n傑克商業自動化股份有限公司 康小姐\n電話：(02)2555-7886#165  傳真：(02)2555-5426\nE-Mail：acl@jacksoft.com.tw\n\n\n費　　用\n全程免費\n\n\n活動對象\n‧各金融機構(含金控、銀行、保險、證券等)與相關公協會董事長、總經理、董監、\n高階主管、人力資源、數位金融、企劃等部門主管及人員。\n‧對本議題有興趣之資訊、財金、稽核、法遵與風控等相關從業人員\n與大專院校學校老師與學生。\n\n\n線上報名\n\n\n\n報名截止\n本次活動報名於2018/06/18截止。\n\n\n\n活動議程\n\n\n\n時　　間\n議　　程\n活動內容\n\n\n09:00-09:30\n報到\n報到及領取資料\n\n\n09:30-09:50\n開幕致詞\n金融監督管理委員會 鄭貞茂副主任委員\n行政院財政主計金融處 蕭家旗處長\n財團法人資訊工業策進會數位教育研究所 蔡義昌所長\n國際電腦稽核教育協會(ICAEA) 黃秀鳳分會長\n\n\n09:50-10:10\n授證典禮\n年度 電腦稽核軟體應用師 與 國際ERP電腦稽核師 授證\n\n\n10:10-10:40\n專題演講\n主　題：國際大數據分析工作的機會與挑戰\n主持人：國立中正大學　黃士銘教授/研發長\n主講人：Ｄr. Tawei (David) Wang CPA\,CEAP\,CIA\n美國DePaul大學會計與資訊科技教授\n國際電腦稽核教育協會(ICAEA) 北美召集人\n\n\n10:40-11:00\n中場休息\n茶　　敘\n\n\n11:00-11:25\n專題演講\n主　題：數位浪潮下電腦自動化稽核的智慧運用實務\n主持人：資訊工業策進會數位教育研究所代表\n主講人：黃乙玲女士 CEAP\,JCCP\,CIA\n經歷：鴻海集團總稽核\n日勝生集團總稽核\n\n\n11:25-11:35\n綜合座談\n與Q&A\n主　題：Fintech 下的機會與挑戰\n主持人：傑克商業自動化股份有限公司 黃秀鳳總經理\n\n\n11:35-11:55\n與　談：\n1.行政院財政主計金融處 蕭家旗處長\n2.致理科技大學財務金融系 蕭晴惠學務長\n3.國際電腦稽核教育協會(ICAEA)　Dr.Tawei (David) Wang\n4.電腦稽核專家 黃乙玲女士\n5.實務界人士\n\n\n11:55-12:00\n圓滿結束閉幕式
URL:https://airobot.ccu.edu.tw/event/2018-fintech%e4%b8%8b%e7%9a%84%e6%a9%9f%e6%9c%83%e8%88%87%e6%8c%91%e6%88%b0-%e6%b3%95%e9%81%b5%e7%a7%91%e6%8a%80%e8%88%87%e9%9b%bb%e8%85%a6%e7%a8%bd%e6%a0%b8%e5%9c%8b%e9%9a%9b%e4%ba%ba%e6%89%8d/
LOCATION:集思台大會議中心米開朗基羅廳\, 羅斯福路4段85號B1\, 台北市\, 台灣
ORGANIZER;CN="%E5%82%91%E5%85%8B%E5%95%86%E6%A5%AD%E8%87%AA%E5%8B%95%E5%8C%96%E8%82%A1%E4%BB%BD%E6%9C%89%E9%99%90%E5%85%AC%E5%8F%B8(%E5%BA%B7%E5%B0%8F%E5%A7%90)":MAILTO:acl@jacksoft.com.tw
END:VEVENT
BEGIN:VEVENT
DTSTART;VALUE=DATE:20180615
DTEND;VALUE=DATE:20180616
DTSTAMP:20260423T172025
CREATED:20180606T035253Z
LAST-MODIFIED:20180609T010054Z
UID:258-1529020800-1529107199@airobot.ccu.edu.tw
SUMMARY:2018 智慧新前景，金融大未來
DESCRIPTION:http://www.ccu.edu.tw/show_news.php?id=3791 \n深度學習領域與人工智慧熱潮盛行，為人們帶來許多便捷的金融服務，而在這股風潮下，又將產生哪些新金融科技？中正大學產業發展與預測研究中心與南部科學工業園區管理局將於6月15日在該校管理學院B1國際會議廳舉辦「智慧大未來，金融新前景」金融科技論壇，邀請到國外重量級學者 Dr. Diane Hu蒞臨分享對金融與智慧趨勢的看法，歡迎中正校內外師生、民眾報名參加。 \n這次活動規劃「國際專家專題演講」和「人工智慧發展與突破」2大主題與座談，特別邀請國外知名學者 Dr. Diane Hu及4位業界領域專家分享金融科技（Fintech）、人工智慧（AI）的現況發展、實際應用及發展趨勢等議題。每個主題將進行2個小時的分享與探討，先由講者依主題演講後，再以座談方式讓講者、主持人及現場來賓針對相關議題互動交流。 \n在美國華盛頓大學、加州大學取得電腦科學與機器學習的碩博士學位後，Dr. Diane Hu便任職於Intel、Yahoo等科技大廠，負責探勘與分析使用者資料，最近也被聘至Etsy擔任高階主管，擁有相當豐富的實務經驗，對機器學習及金融科技的應用更有一套獨特見解。 \n主辦單位表示，「智慧大未來，金融新前景」論壇邀請專家學者介紹人工智慧發展與金融科技的國際新趨勢，將可瞭解最新的世界脈動。而透過匯集產、官、學、研及國際夥伴等各方資源，這次論壇也建立完整開放的資源整合平台，促使各界在學術研究、人才培育、國際及產學合作上的關係更加緊密。 \n此外，Dr. Diane Hu將於6月13日先行在管理學院210會議室分享「Increasing Sales Through Large-Scale Machine-Learned」。中正大學產測研究中心表示，先前和南科管理局舉辦「智慧金融科技之發展與創新應用」金融科技論壇，當時與會人數超過100人，獲得廣大迴響，這次重金邀請國際知名學者蒞臨，歡迎更多對現今金融科技有興趣的師生踴躍報名參加。 \n　想從國際觀的角度瞭解金融科技嗎？絕對不能錯過Dr. Diane的分享！「智慧大未來，金融新前景」壇報名至6月13日下午5時為止，名額有限，請把握機會盡速報名，活動連結為 https://bit.ly/2JdV5Ld，有任何疑問請洽詢中正大學產測中心兼任助理王先生，手機 0937525063，信箱 qwe12358qwe@gmail.com。
URL:https://airobot.ccu.edu.tw/event/2018-%e6%99%ba%e6%85%a7%e6%96%b0%e5%89%8d%e6%99%af%ef%bc%8c%e9%87%91%e8%9e%8d%e5%a4%a7%e6%9c%aa%e4%be%86/
LOCATION:國立中正大學 管理學院 B1演講廳\, 大學路一段168號\, 民雄鄉\, 嘉義縣\, 62102\, 台灣
CATEGORIES:論壇/研討會
ATTACH;FMTTYPE=image/jpeg:https://airobot.ccu.edu.tw/wp-content/uploads/2018/06/1528253693180.jpg
END:VEVENT
BEGIN:VEVENT
DTSTART;VALUE=DATE:20180610
DTEND;VALUE=DATE:20180611
DTSTAMP:20260423T172025
CREATED:20180601T070712Z
LAST-MODIFIED:20180609T010252Z
UID:147-1528588800-1528675199@airobot.ccu.edu.tw
SUMMARY:2018 Fintech 機器人自造競賽 (決賽)
DESCRIPTION:Fintech機器人自造競賽活動，以推廣金融業與會計業的智慧機器人應用，包含當前最夯的人工智慧應用、法遵科技(Regtech)與電腦稽核應用為主軸，期望培養人工智慧時代的銀行業、保險業、證卷期貨業、數位現金與第三方支付、會計師業之智慧機器自造人才。賽事分為4大主題：銀行組、保險組、數位現金與第三方支付組、證券期貨組，結合創意與研發，並分為創意類與研發類來做競賽。 \n\n創意類：高中生與大專以上學生皆可報名，主要以微電影拍攝作為競賽內容。\n研發類：限大專以上學生報名，主要以完成有相關軟體機器人或實體機器人作品為競賽內容。\n\n競賽活動將分別進行報名初審、晉級複賽、決賽；初、複賽在中正大學智慧機器人自造基地辦理，最後經由選拔晉級後的隊伍，決賽在南科AI_ROBOT自造基地進行。 \n詳細競賽之組隊方式及規則、自造機器人作品規則、隊伍需準備物品、競賽評分方式、及各式獎勵請參考報名簡章(https://goo.gl/LYZ9oL) \n  \n線上報名：https://goo.gl/LYZ9oL \n報名簡章：https://goo.gl/Rwmtgd
URL:https://airobot.ccu.edu.tw/event/2018-fintech-%e6%a9%9f%e5%99%a8%e4%ba%ba%e8%87%aa%e9%80%a0%e7%ab%b6%e8%b3%bd-%e6%b1%ba%e8%b3%bd/
LOCATION:中正大學智慧機器人自造基地\, 民雄鄉大學路一段168號\, 嘉義縣\, 62102\, 台灣
CATEGORIES:競賽
ATTACH;FMTTYPE=image/jpeg:https://airobot.ccu.edu.tw/wp-content/uploads/2018/06/2018FinTech機器人自造競賽DM-2.jpg
ORGANIZER;CN="%E8%A3%BD%E5%95%86%E6%95%B4%E5%90%88%E7%A0%94%E7%A9%B6%E4%B8%AD%E5%BF%83(%E7%8E%8B%E5%B0%8F%E5%A7%90)":MAILTO:deptcmca.01@gmail.com
END:VEVENT
BEGIN:VEVENT
DTSTART;VALUE=DATE:20180602
DTEND;VALUE=DATE:20180603
DTSTAMP:20260423T172025
CREATED:20180601T040545Z
LAST-MODIFIED:20180609T010229Z
UID:126-1527897600-1527983999@airobot.ccu.edu.tw
SUMMARY:2018 Fintech 機器人自造競賽 (初賽/複賽)
DESCRIPTION:Fintech機器人自造競賽活動，以推廣金融業與會計業的智慧機器人應用，包含當前最夯的人工智慧應用、法遵科技(Regtech)與電腦稽核應用為主軸，期望培養人工智慧時代的銀行業、保險業、證卷期貨業、數位現金與第三方支付、會計師業之智慧機器自造人才。賽事分為4大主題：銀行組、保險組、數位現金與第三方支付組、證券期貨組，結合創意與研發，並分為創意類與研發類來做競賽。 \n\n創意類：高中生與大專以上學生皆可報名，主要以微電影拍攝作為競賽內容。\n研發類：限大專以上學生報名，主要以完成有相關軟體機器人或實體機器人作品為競賽內容。\n\n競賽活動將分別進行報名初審、晉級複賽、決賽；初、複賽在中正大學智慧機器人自造基地辦理，最後經由選拔晉級後的隊伍，決賽在南科AI_ROBOT自造基地進行。 \n詳細競賽之組隊方式及規則、自造機器人作品規則、隊伍需準備物品、競賽評分方式、及各式獎勵請參考報名簡章(https://goo.gl/LYZ9oL) \n  \n線上報名：https://goo.gl/LYZ9oL \n報名簡章：https://goo.gl/Rwmtgd
URL:https://airobot.ccu.edu.tw/event/2018-fintech-%e6%a9%9f%e5%99%a8%e4%ba%ba%e8%87%aa%e9%80%a0%e7%ab%b6%e8%b3%bd-%e5%88%9d%e8%b3%bd-%e8%a4%87%e8%b3%bd/
LOCATION:中正大學智慧機器人自造基地\, 民雄鄉大學路一段168號\, 嘉義縣\, 62102\, 台灣
CATEGORIES:競賽
ATTACH;FMTTYPE=image/jpeg:https://airobot.ccu.edu.tw/wp-content/uploads/2018/06/2018FinTech機器人自造競賽DM-2.jpg
ORGANIZER;CN="%E8%A3%BD%E5%95%86%E6%95%B4%E5%90%88%E7%A0%94%E7%A9%B6%E4%B8%AD%E5%BF%83(%E7%8E%8B%E5%B0%8F%E5%A7%90)":MAILTO:deptcmca.01@gmail.com
END:VEVENT
END:VCALENDAR