BEGIN:VCALENDAR
VERSION:2.0
PRODID:-//AI Robot Maker Space - ECPv6.13.2.1//NONSGML v1.0//EN
CALSCALE:GREGORIAN
METHOD:PUBLISH
X-WR-CALNAME:AI Robot Maker Space
X-ORIGINAL-URL:https://airobot.ccu.edu.tw
X-WR-CALDESC:Events for AI Robot Maker Space
REFRESH-INTERVAL;VALUE=DURATION:PT1H
X-Robots-Tag:noindex
X-PUBLISHED-TTL:PT1H
BEGIN:VTIMEZONE
TZID:Asia/Taipei
BEGIN:STANDARD
TZOFFSETFROM:+0800
TZOFFSETTO:+0800
TZNAME:CST
DTSTART:20190101T000000
END:STANDARD
END:VTIMEZONE
BEGIN:VEVENT
DTSTART;TZID=Asia/Taipei:20200427T143000
DTEND;TZID=Asia/Taipei:20200427T170000
DTSTAMP:20260423T060259
CREATED:20200421T030109Z
LAST-MODIFIED:20200421T031924Z
UID:1847-1587997800-1588006800@airobot.ccu.edu.tw
SUMMARY:【訪視】非正規教育課程認證機構-國立空中大學 線上訪視課程-印尼語組合屋式教學
DESCRIPTION:本單位受教育部委託，依規定預計於四月下旬訪視”印尼語組合屋式教學”這門課程。\n本次採線上訪視，預計進行一個小時。\n本單位將安排一位訪視委員一同進行訪視評鑑。\n請開課機構事先準備簡報，說明本次課程的學員成效、上課情形、討論區討論情況等等…
URL:https://airobot.ccu.edu.tw/event/%e3%80%90%e8%a8%aa%e8%a6%96%e3%80%91%e9%9d%9e%e6%ad%a3%e8%a6%8f%e6%95%99%e8%82%b2%e8%aa%b2%e7%a8%8b%e8%aa%8d%e8%ad%89%e6%a9%9f%e6%a7%8b-%e5%9c%8b%e7%ab%8b%e7%a9%ba%e4%b8%ad%e5%a4%a7%e5%ad%b8-%e7%b7%9a/
LOCATION:中正大學智慧機器人自造基地\, 民雄鄉大學路一段168號\, 嘉義縣\, 62102\, 台灣
END:VEVENT
BEGIN:VEVENT
DTSTART;TZID=Asia/Taipei:20200423T103000
DTEND;TZID=Asia/Taipei:20200423T120000
DTSTAMP:20260423T060259
CREATED:20200421T025918Z
LAST-MODIFIED:20200421T025918Z
UID:1845-1587637800-1587643200@airobot.ccu.edu.tw
SUMMARY:機械手臂 DEMO 會議
DESCRIPTION:
URL:https://airobot.ccu.edu.tw/event/%e6%a9%9f%e6%a2%b0%e6%89%8b%e8%87%82-demo-%e6%9c%83%e8%ad%b0-2/
LOCATION:中正大學智慧機器人自造基地\, 民雄鄉大學路一段168號\, 嘉義縣\, 62102\, 台灣
END:VEVENT
BEGIN:VEVENT
DTSTART;TZID=Asia/Taipei:20200422T103000
DTEND;TZID=Asia/Taipei:20200422T120000
DTSTAMP:20260423T060259
CREATED:20200421T025836Z
LAST-MODIFIED:20200421T025836Z
UID:1843-1587551400-1587556800@airobot.ccu.edu.tw
SUMMARY:機械手臂 DEMO 會議
DESCRIPTION:
URL:https://airobot.ccu.edu.tw/event/%e6%a9%9f%e6%a2%b0%e6%89%8b%e8%87%82-demo-%e6%9c%83%e8%ad%b0/
LOCATION:中正大學智慧機器人自造基地\, 民雄鄉大學路一段168號\, 嘉義縣\, 62102\, 台灣
END:VEVENT
BEGIN:VEVENT
DTSTART;TZID=Asia/Taipei:20200420T123000
DTEND;TZID=Asia/Taipei:20200420T133000
DTSTAMP:20260423T060259
CREATED:20200416T060122Z
LAST-MODIFIED:20200416T061645Z
UID:1802-1587385800-1587389400@airobot.ccu.edu.tw
SUMMARY:【工作坊】「Cisco WebEx視訊會議軟體」操作講習
DESCRIPTION:一、活動目標\n協助了解同步教學工具以順利進行彈性遠距教學，培訓教師及助教在任何地方向學生提供即時互動的課程，並進行線上測驗及分組討論，從而增強學習效果，達到以Cisco WebEx實施遠距教學。 \n二、活動議程\n\n\n\n\n「Cisco WebEx視訊會議軟體」操作講習 \n\n\n\n參加對象：教師、助教、教職員(業務相關)。 \n活動時間：109年4月17日(五)、4月20日(一) 中午12:30~01:30 \n活動地點：國立中正大學智慧機器人自造基地(活動中心1樓，入口於湖畔咖啡旁。)\n\n\n活動議程：分2梯次進行，請擇一適合時間參加。(此次無直播改現場錄影，課後會上傳教學影片。) \n\n\n\n日期\n時間\n課程主題\n學習目標\n講師\n\n\n4/17(五)\n12:30~01:30\n「Cisco WebEx視訊會議軟體」操作講習\n培訓教師及助教在任何地方向學生提供即時互動的課程，並進行線上測驗及分組討論，從而增強學習效果，達到以Cisco WebEx實施遠距教學。\n資訊處 \n余泳儒 老師\n\n\n4/20(一)\n12:30~01:30\n「Cisco WebEx視訊會議軟體」操作講習\n培訓教師及助教在任何地方向學生提供即時互動的課程，並進行線上測驗及分組討論，從而增強學習效果，達到以Cisco WebEx實施遠距教學。\n資訊處 \n余泳儒 老師\n\n\n\n【報名網址】https://reurl.cc/4RQ1WX \n【活動相關】請洽：(05)272-0411 #23150(辦公室) #23199(基地) \n【注意事項】 \n1.     教師及助教請至少自備筆電1台。 \n2.     為防範「新冠病毒」疫情之傳染，本次活動相關防疫措施說明如下，並請參加者配合辦理： \n(1)場地活動前將消毒；活動中門窗開啟，保持室內外空氣流通。 \n(2)入口處放置手部清潔用品供使用。 \n(3)個人請維持手部清潔，落實呼吸道衛生及咳嗽禮節；建議人與人之間，在室內應保持1.5公尺、室外保持1公尺之距離，若雙方正確佩戴口罩，則可豁免社交距離，但處於擁擠、密閉之場所仍應佩戴口罩。 \n(4)個人報名活動後，若有發燒、咳嗽、呼吸困難等症狀或其他任何身體不適，應主動與承辦單位聯繫，並自行就醫或自主隔離，勿參與活動。\n\n\n\n三、        合作團隊及相關資源\n\n主辦單位：教務處，資訊處，智慧機器人自造基地。\n課後諮詢值班服務台：平日9:00~17:00，請洽資訊處櫃台#14150。\n可使用電子白板錄影地點，請洽自造基地預約時間：\n\n\n智慧機器人自造基地1處\n教育學院1處\n\n(本活動由教育部高等教育深耕計畫補助辦理)
URL:https://airobot.ccu.edu.tw/event/%e3%80%90%e5%b7%a5%e4%bd%9c%e5%9d%8a%e3%80%91%e3%80%8ccisco-webex%e8%a6%96%e8%a8%8a%e6%9c%83%e8%ad%b0%e8%bb%9f%e9%ab%94%e3%80%8d%e6%93%8d%e4%bd%9c%e8%ac%9b%e7%bf%92-2/
LOCATION:中正大學智慧機器人自造基地\, 民雄鄉大學路一段168號\, 嘉義縣\, 62102\, 台灣
CATEGORIES:課程/培訓/研習,講座
ATTACH;FMTTYPE=image/png:https://airobot.ccu.edu.tw/wp-content/uploads/2020/04/Cisco-WebEx視訊會議軟體-海報_opt.png
END:VEVENT
BEGIN:VEVENT
DTSTART;TZID=Asia/Taipei:20200417T123000
DTEND;TZID=Asia/Taipei:20200417T133000
DTSTAMP:20260423T060259
CREATED:20200416T060041Z
LAST-MODIFIED:20200416T061618Z
UID:1801-1587126600-1587130200@airobot.ccu.edu.tw
SUMMARY:【工作坊】「Cisco WebEx視訊會議軟體」操作講習
DESCRIPTION:一、活動目標\n協助了解同步教學工具以順利進行彈性遠距教學，培訓教師及助教在任何地方向學生提供即時互動的課程，並進行線上測驗及分組討論，從而增強學習效果，達到以Cisco WebEx實施遠距教學。 \n二、活動議程\n\n\n\n\n「Cisco WebEx視訊會議軟體」操作講習 \n\n\n\n參加對象：教師、助教、教職員(業務相關)。 \n活動時間：109年4月17日(五)、4月20日(一) 中午12:30~01:30 \n活動地點：國立中正大學智慧機器人自造基地(活動中心1樓，入口於湖畔咖啡旁。)\n\n\n活動議程：分2梯次進行，請擇一適合時間參加。(此次無直播改現場錄影，課後會上傳教學影片。) \n\n\n\n日期\n時間\n課程主題\n學習目標\n講師\n\n\n4/17(五)\n12:30~01:30\n「Cisco WebEx視訊會議軟體」操作講習\n培訓教師及助教在任何地方向學生提供即時互動的課程，並進行線上測驗及分組討論，從而增強學習效果，達到以Cisco WebEx實施遠距教學。\n資訊處 \n余泳儒 老師\n\n\n4/20(一)\n12:30~01:30\n「Cisco WebEx視訊會議軟體」操作講習\n培訓教師及助教在任何地方向學生提供即時互動的課程，並進行線上測驗及分組討論，從而增強學習效果，達到以Cisco WebEx實施遠距教學。\n資訊處 \n余泳儒 老師\n\n\n\n【報名網址】https://reurl.cc/4RQ1WX \n【活動相關】請洽：(05)272-0411 #23150(辦公室) #23199(基地) \n【注意事項】 \n1.     教師及助教請至少自備筆電1台。 \n2.     為防範「新冠病毒」疫情之傳染，本次活動相關防疫措施說明如下，並請參加者配合辦理： \n(1)場地活動前將消毒；活動中門窗開啟，保持室內外空氣流通。 \n(2)入口處放置手部清潔用品供使用。 \n(3)個人請維持手部清潔，落實呼吸道衛生及咳嗽禮節；建議人與人之間，在室內應保持1.5公尺、室外保持1公尺之距離，若雙方正確佩戴口罩，則可豁免社交距離，但處於擁擠、密閉之場所仍應佩戴口罩。 \n(4)個人報名活動後，若有發燒、咳嗽、呼吸困難等症狀或其他任何身體不適，應主動與承辦單位聯繫，並自行就醫或自主隔離，勿參與活動。\n\n\n\n三、        合作團隊及相關資源\n\n主辦單位：教務處，資訊處，智慧機器人自造基地。\n課後諮詢值班服務台：平日9:00~17:00，請洽資訊處櫃台#14150。\n可使用電子白板錄影地點，請洽自造基地預約時間：\n\n\n智慧機器人自造基地1處\n教育學院1處\n\n(本活動由教育部高等教育深耕計畫補助辦理)
URL:https://airobot.ccu.edu.tw/event/%e3%80%90%e5%b7%a5%e4%bd%9c%e5%9d%8a%e3%80%91%e3%80%8ccisco-webex%e8%a6%96%e8%a8%8a%e6%9c%83%e8%ad%b0%e8%bb%9f%e9%ab%94%e3%80%8d%e6%93%8d%e4%bd%9c%e8%ac%9b%e7%bf%92/
LOCATION:中正大學智慧機器人自造基地\, 民雄鄉大學路一段168號\, 嘉義縣\, 62102\, 台灣
CATEGORIES:課程/培訓/研習,講座
ATTACH;FMTTYPE=image/png:https://airobot.ccu.edu.tw/wp-content/uploads/2020/04/Cisco-WebEx視訊會議軟體-海報_opt.png
END:VEVENT
BEGIN:VEVENT
DTSTART;TZID=Asia/Taipei:20200415T150000
DTEND;TZID=Asia/Taipei:20200415T160000
DTSTAMP:20260423T060259
CREATED:20200415T025221Z
LAST-MODIFIED:20200421T025411Z
UID:1841-1586962800-1586966400@airobot.ccu.edu.tw
SUMMARY:菲律賓語課程製課會議
DESCRIPTION:課程: 菲律賓語課程製課會議 \n授課講師: 何德華 老師
URL:https://airobot.ccu.edu.tw/event/%e8%8f%b2%e5%be%8b%e8%b3%93%e8%aa%9e%e8%aa%b2%e7%a8%8b%e8%a3%bd%e8%aa%b2%e6%9c%83%e8%ad%b0/
LOCATION:中正大學智慧機器人自造基地\, 民雄鄉大學路一段168號\, 嘉義縣\, 62102\, 台灣
END:VEVENT
BEGIN:VEVENT
DTSTART;TZID=Asia/Taipei:20200413T123000
DTEND;TZID=Asia/Taipei:20200413T133000
DTSTAMP:20260423T060259
CREATED:20200409T070038Z
LAST-MODIFIED:20200409T070517Z
UID:1742-1586781000-1586784600@airobot.ccu.edu.tw
SUMMARY:【研習】Google Hangouts Meet教學說明會
DESCRIPTION:一、  活動目標\n因應防疫措施，協助教師學習操作線上同步及遠距教學，以確保本校師生在健康安全的情況下進行教學與學習。 \n二、  活動議程\n\n\n\n\nGoogle Hangouts Meet教學說明會 \n\n\n\n參加對象：教師、助教、教職員(業務相關)。 \n活動時間：109年4月10日(五)、4月13日(一) 中午12:30~01:30 \n活動地點：國立中正大學智慧機器人自造基地(活動中心1樓，入口於湖畔咖啡旁。)\n\n\n活動議程：分2梯次進行，請擇一適合時間參加。 \n  \n\n\n\n日期\n時間\n課程主題\n學習目標\n講師\n\n\n4/10(五)\n12:30~01:30\nGoogle Hangouts Meet線上視訊會議服務\n防疫停課期間，教師及助教如何利用Google Hangouts Meet進行遠距同步教學。\n資訊處 \n余泳儒 老師\n\n\n4/13(一)\n12:30~01:30\nGoogle Hangouts Meet線上視訊會議服務\n防疫停課期間，教師及助教如何利用Google Hangouts Meet進行遠距同步教學。\n余泳儒 老師\n\n\n\n【報名網址】https://reurl.cc/b5E2Ny \n【活動相關】請洽：(05)272-0411 #23150(辦公室) #23199(基地) \n【注意事項】 \n1.     教師及助教請至少自備筆電1台。 \n2.     為防範「新冠病毒」疫情之傳染，本次活動相關防疫措施說明如下，並請參加者配合辦理： \n(1)場地活動前將消毒；活動中門窗開啟，保持室內外空氣流通。 \n(2)入口處放置手部清潔用品供使用。 \n(3)個人請維持手部清潔，落實呼吸道衛生及咳嗽禮節；建議人與人之間，在室內應保持1.5公尺、室外保持1公尺之距離，若雙方正確佩戴口罩，則可豁免社交距離，但處於擁擠、密閉之場所仍應佩戴口罩。 \n(4)個人報名活動後，若有發燒、咳嗽、呼吸困難等症狀或其他任何身體不適，應主動與承辦單位聯繫，並自行就醫或自主隔離，勿參與活動。 \n \n\n\n\n三、 合作團隊及相關資源\n主辦單位：教務處，資訊處，智慧機器人自造基地。 \n(本活動由教育部高等教育深耕計畫補助辦理)
URL:https://airobot.ccu.edu.tw/event/%e3%80%90%e7%a0%94%e7%bf%92%e3%80%91google-hangouts-meet%e6%95%99%e5%ad%b8%e8%aa%aa%e6%98%8e%e6%9c%83-2/
LOCATION:中正大學智慧機器人自造基地\, 民雄鄉大學路一段168號\, 嘉義縣\, 62102\, 台灣
CATEGORIES:課程/培訓/研習
ATTACH;FMTTYPE=image/png:https://airobot.ccu.edu.tw/wp-content/uploads/2020/04/海報_Google-Hangouts-Meet教學說明會.png
END:VEVENT
BEGIN:VEVENT
DTSTART;TZID=Asia/Taipei:20200410T123000
DTEND;TZID=Asia/Taipei:20200410T133000
DTSTAMP:20260423T060259
CREATED:20200409T065608Z
LAST-MODIFIED:20200409T070203Z
UID:1739-1586521800-1586525400@airobot.ccu.edu.tw
SUMMARY:【研習】Google Hangouts Meet教學說明會
DESCRIPTION:一、  活動目標\n因應防疫措施，協助教師學習操作線上同步及遠距教學，以確保本校師生在健康安全的情況下進行教學與學習。 \n二、  活動議程\n\n\n\n\nGoogle Hangouts Meet教學說明會 \n\n\n\n參加對象：教師、助教、教職員(業務相關)。 \n活動時間：109年4月10日(五)、4月13日(一) 中午12:30~01:30 \n活動地點：國立中正大學智慧機器人自造基地(活動中心1樓，入口於湖畔咖啡旁。)\n\n\n活動議程：分2梯次進行，請擇一適合時間參加。 \n  \n\n\n\n日期\n時間\n課程主題\n學習目標\n講師\n\n\n4/10(五)\n12:30~01:30\nGoogle Hangouts Meet線上視訊會議服務\n防疫停課期間，教師及助教如何利用Google Hangouts Meet進行遠距同步教學。\n資訊處 \n余泳儒 老師\n\n\n4/13(一)\n12:30~01:30\nGoogle Hangouts Meet線上視訊會議服務\n防疫停課期間，教師及助教如何利用Google Hangouts Meet進行遠距同步教學。\n余泳儒 老師\n\n\n\n【報名網址】https://reurl.cc/b5E2Ny \n【活動相關】請洽：(05)272-0411 #23150(辦公室) #23199(基地) \n【注意事項】 \n1.     教師及助教請至少自備筆電1台。 \n2.     為防範「新冠病毒」疫情之傳染，本次活動相關防疫措施說明如下，並請參加者配合辦理： \n(1)場地活動前將消毒；活動中門窗開啟，保持室內外空氣流通。 \n(2)入口處放置手部清潔用品供使用。 \n(3)個人請維持手部清潔，落實呼吸道衛生及咳嗽禮節；建議人與人之間，在室內應保持1.5公尺、室外保持1公尺之距離，若雙方正確佩戴口罩，則可豁免社交距離，但處於擁擠、密閉之場所仍應佩戴口罩。 \n(4)個人報名活動後，若有發燒、咳嗽、呼吸困難等症狀或其他任何身體不適，應主動與承辦單位聯繫，並自行就醫或自主隔離，勿參與活動。 \n \n\n\n\n三、 合作團隊及相關資源\n主辦單位：教務處，資訊處，智慧機器人自造基地。 \n(本活動由教育部高等教育深耕計畫補助辦理)
URL:https://airobot.ccu.edu.tw/event/%e3%80%90%e7%a0%94%e7%bf%92%e3%80%91google-hangouts-meet%e6%95%99%e5%ad%b8%e8%aa%aa%e6%98%8e%e6%9c%83/
LOCATION:中正大學智慧機器人自造基地\, 民雄鄉大學路一段168號\, 嘉義縣\, 62102\, 台灣
CATEGORIES:課程/培訓/研習
ATTACH;FMTTYPE=image/png:https://airobot.ccu.edu.tw/wp-content/uploads/2020/04/海報_Google-Hangouts-Meet教學說明會.png
END:VEVENT
BEGIN:VEVENT
DTSTART;TZID=Asia/Taipei:20200410T100000
DTEND;TZID=Asia/Taipei:20200410T120000
DTSTAMP:20260423T060259
CREATED:20200409T024558Z
LAST-MODIFIED:20200421T024848Z
UID:1839-1586512800-1586520000@airobot.ccu.edu.tw
SUMMARY:長者人權門診課程製課會議
DESCRIPTION:課程: 長者人權門診課程製課會議 \n授課講師; 施慧玲 老師 \n 
URL:https://airobot.ccu.edu.tw/event/%e9%95%b7%e8%80%85%e4%ba%ba%e6%ac%8a%e9%96%80%e8%a8%ba%e8%aa%b2%e7%a8%8b%e8%a3%bd%e8%aa%b2%e6%9c%83%e8%ad%b0/
LOCATION:中正大學智慧機器人自造基地\, 民雄鄉大學路一段168號\, 嘉義縣\, 62102\, 台灣
CATEGORIES:課程/培訓/研習,論壇/研討會
END:VEVENT
BEGIN:VEVENT
DTSTART;TZID=Asia/Taipei:20200323T123000
DTEND;TZID=Asia/Taipei:20200327T133000
DTSTAMP:20260423T060259
CREATED:20200320T020206Z
LAST-MODIFIED:20200409T065712Z
UID:1426-1584966600-1585315800@airobot.ccu.edu.tw
SUMMARY:【課程】2020數位學習及遠距教學工作坊
DESCRIPTION:一、活動目標\n因應防疫措施，以推動遠距教學為目標，辦理數位教材製作研習課程進行培訓，使教師及助教全面具有遠距教學營運之能力，並可進行現場課程錄製及直播功能。 \n二、活動議程\n\n\n\n2020數位學習及遠距教學工作坊\n\n\n參加對象：教師、助教、學生、教職員(業務相關)。 \n活動時間：109年3月23日(一)~3月27日(五) 中午12:30~01:30 \n活動地點：國立中正大學智慧機器人自造基地(活動中心1樓，入口於湖畔咖啡旁。)\n\n\n活動議程： \n\n\n\n日期\n時間\n活動內容\n主講人\n\n\n3/23(一)\n12:20~12:30\n引言、致詞\n洪新原 教務長\n\n\n\n  \n\n\n\n日期\n時間\n課程主題\n學習目標\n講者\n\n\n3/23(一)\n12:30~01:30\n桌面錄影：Screencastify、OBS\n使用Google Chrome瀏覽器即可完成錄製。\n中正大學資工系 \n游寶達教授 \n蔡政宇博士\n\n\n3/24(二)\n12:30~01:30\nYoutube直播教學\n使用影音串流平台，進行直播教學及串流資料管理。\n中正大學資工系 \n游寶達教授 \n蔡政宇博士\n\n\n3/25(三)\n12:30~01:30\nZOOM雲端視訊會議\n防疫停課期間，教師及助教如何利用Zoom進行遠距同步教學。\n資訊處 \n余泳儒老師\n\n\n3/26(四)\n12:30~01:30\n電子白板互動操作教學\n探討快速及簡易的互動電子白板錄製模式，及如何將影片上傳到Youtube。\n中正大學資工系 \n游寶達教授\n\n\n3/27(五)\n12:30~01:30\ne-Course2經營教學\n數位學習平台使用教學，課程平台靈活運用，便利教師將課程規劃及教學設計。\n資訊處 \n黃耀廷組長 \n于巧紋工程師\n\n\n\n【報名網址】https://reurl.cc/b5z4x6 \n【活動相關】請洽：(05)272-0411 #23150(辦公室) #23199(基地) \n【注意事項】 \n1.      教師及助教請至少自備筆電1台。 \n2.      為防範「新冠病毒」疫情之傳染，本次活動相關防疫措施說明如下，並請參加者配合辦理： \n(1)場地活動前將消毒；活動中門窗開啟，保持室內外空氣流通。 \n(2)入口處放置手部清潔用品供使用。 \n(3)個人如有配帶口罩需要請自備。 \n(4)個人請維持手部清潔，落實呼吸道衛生及咳嗽禮節；與人交談時，請儘可能保持一公尺以上的距離。 \n(5)校外人士，需填報【國立中正大學校園嚴重特殊傳染性肺炎武漢肺炎健康關懷問卷】並於活動當日繳交(如有流行疫區旅遊史或接觸史者須於活動前一日繳交)。 \n(6)請個人切勿隱瞞旅遊接觸史，以免觸法。 \n(7)個人報名活動後，若有發燒、咳嗽、呼吸困難等症狀或其他任何身體不適，應主動與承辦單位聯繫，並自行就醫或自主隔離，勿參與活動。 \n(8)欲詳本校更多防疫資訊請至本校「嚴重特殊傳染性肺炎專區」https://www005006.ccu.edu.tw/2019-nCoV.php查詢。 \n三、合作團隊及相關資源\n\n主辦單位：教務處，資訊處，智慧機器人自造基地。\n課後諮詢服務窗口：平日9:00~17:00，請依課程主題分別洽以下窗口。\n\n\n資訊處：ZOOM雲端視訊會議、e-Course2經營教學。\n智慧機器人自造基地：桌面錄影Screencastify、Youtube直播教學、電子白板互動教學。\n\n\n可使用電子白板錄影地點(暫訂)：\n\n\n智慧機器人自造基地3處\n教育學院1處\n\n(本活動由教育部高等教育深耕計畫補助辦理)\n\n\n\n 
URL:https://airobot.ccu.edu.tw/event/%e3%80%90%e8%aa%b2%e7%a8%8b%e3%80%912020%e6%95%b8%e4%bd%8d%e5%ad%b8%e7%bf%92%e5%8f%8a%e9%81%a0%e8%b7%9d%e6%95%99%e5%ad%b8%e5%b7%a5%e4%bd%9c%e5%9d%8a/
LOCATION:中正大學智慧機器人自造基地\, 民雄鄉大學路一段168號\, 嘉義縣\, 62102\, 台灣
CATEGORIES:課程/培訓/研習
ATTACH;FMTTYPE=image/png:https://airobot.ccu.edu.tw/wp-content/uploads/2020/03/遠距教學工作坊_r1.png
END:VEVENT
BEGIN:VEVENT
DTSTART;TZID=Asia/Taipei:20200311T140000
DTEND;TZID=Asia/Taipei:20200311T170000
DTSTAMP:20260423T060259
CREATED:20200306T065122Z
LAST-MODIFIED:20200309T021351Z
UID:1357-1583935200-1583946000@airobot.ccu.edu.tw
SUMMARY:【基地參訪】工學院專題研習人才班
DESCRIPTION:【基地參訪】 \n\n工學院將於3/4-3/13舉辦專題研習人才班\n目前預計會有15位工學院各系的外籍實習生參加\n國籍有越南、印度、印尼、泰國，均為工學院背景大學生\n\n⇒聯絡人: 資工 瑜芸 \n 
URL:https://airobot.ccu.edu.tw/event/%e5%b7%a5%e5%ad%b8%e9%99%a2%e5%a4%96%e7%b1%8d%e7%94%9f%e5%9f%ba%e5%9c%b0%e5%8f%83%e8%a8%aa/
LOCATION:中正大學智慧機器人自造基地\, 民雄鄉大學路一段168號\, 嘉義縣\, 62102\, 台灣
CATEGORIES:參訪交流,課程/培訓/研習
END:VEVENT
BEGIN:VEVENT
DTSTART;TZID=Asia/Taipei:20200311T090000
DTEND;TZID=Asia/Taipei:20200311T110000
DTSTAMP:20260423T060259
CREATED:20200310T083950Z
LAST-MODIFIED:20200321T184655Z
UID:1434-1583917200-1583924400@airobot.ccu.edu.tw
SUMMARY:跨領域合作專題研究(二) _ 課程使用基地3D Printer
DESCRIPTION: 賴文能老師 跨領域合作專題研究(二)  課程 使用基地 3D Printer \n 
URL:https://airobot.ccu.edu.tw/event/%e8%b7%a8%e9%a0%98%e5%9f%9f%e5%90%88%e4%bd%9c%e5%b0%88%e9%a1%8c%e7%a0%94%e7%a9%b6%e4%ba%8c-_-%e8%aa%b2%e7%a8%8b%e4%bd%bf%e7%94%a8%e5%9f%ba%e5%9c%b03d-printer/
LOCATION:中正大學智慧機器人自造基地\, 民雄鄉大學路一段168號\, 嘉義縣\, 62102\, 台灣
CATEGORIES:課程/培訓/研習
END:VEVENT
BEGIN:VEVENT
DTSTART;TZID=Asia/Taipei:20200306T100000
DTEND;TZID=Asia/Taipei:20200306T120000
DTSTAMP:20260423T060259
CREATED:20200306T064334Z
LAST-MODIFIED:20200306T064334Z
UID:1355-1583488800-1583496000@airobot.ccu.edu.tw
SUMMARY:PBL課程製課會議
DESCRIPTION:施慧玲老師   PBL課程製課會議
URL:https://airobot.ccu.edu.tw/event/pbl%e8%aa%b2%e7%a8%8b%e8%a3%bd%e8%aa%b2%e6%9c%83%e8%ad%b0/
LOCATION:中正大學智慧機器人自造基地\, 民雄鄉大學路一段168號\, 嘉義縣\, 62102\, 台灣
CATEGORIES:課程/培訓/研習
END:VEVENT
BEGIN:VEVENT
DTSTART;TZID=Asia/Taipei:20200226T140000
DTEND;TZID=Asia/Taipei:20200226T150000
DTSTAMP:20260423T060259
CREATED:20200225T060633Z
LAST-MODIFIED:20200225T060640Z
UID:1346-1582725600-1582729200@airobot.ccu.edu.tw
SUMMARY:TaiwanLife platform operation training for MOOCs
DESCRIPTION:
URL:https://airobot.ccu.edu.tw/event/taiwanlife-platform-operation-training-for-moocs/
LOCATION:中正大學智慧機器人自造基地\, 民雄鄉大學路一段168號\, 嘉義縣\, 62102\, 台灣
CATEGORIES:課程/培訓/研習
END:VEVENT
BEGIN:VEVENT
DTSTART;TZID=Asia/Taipei:20200108T140000
DTEND;TZID=Asia/Taipei:20200108T160000
DTSTAMP:20260423T060259
CREATED:20191219T064408Z
LAST-MODIFIED:20200109T060000Z
UID:1026-1578492000-1578499200@airobot.ccu.edu.tw
SUMMARY:網路學習與數位教材設計研究 Research in Web-based learning and design of computer-based learning materials
DESCRIPTION:
URL:https://airobot.ccu.edu.tw/event/%e7%b6%b2%e8%b7%af%e5%ad%b8%e7%bf%92%e8%88%87%e6%95%b8%e4%bd%8d%e6%95%99%e6%9d%90%e8%a8%ad%e8%a8%88%e7%a0%94%e7%a9%b6-research-in-web-based-learning-and-design-of-computer-based-learning-materials-7/
LOCATION:中正大學智慧機器人自造基地\, 民雄鄉大學路一段168號\, 嘉義縣\, 62102\, 台灣
CATEGORIES:課程/培訓/研習
END:VEVENT
BEGIN:VEVENT
DTSTART;TZID=Asia/Taipei:20191227T133000
DTEND;TZID=Asia/Taipei:20191227T160000
DTSTAMP:20260423T060259
CREATED:20191224T013346Z
LAST-MODIFIED:20191226T044955Z
UID:1032-1577453400-1577462400@airobot.ccu.edu.tw
SUMMARY:同濟中學 VR體驗
DESCRIPTION:
URL:https://airobot.ccu.edu.tw/event/%e5%90%8c%e6%bf%9f%e9%ab%98%e4%b8%ad-vr%e9%ab%94%e9%a9%97/
LOCATION:中正大學智慧機器人自造基地\, 民雄鄉大學路一段168號\, 嘉義縣\, 62102\, 台灣
CATEGORIES:參訪交流
END:VEVENT
BEGIN:VEVENT
DTSTART;TZID=Asia/Taipei:20191226T100000
DTEND;TZID=Asia/Taipei:20191226T120000
DTSTAMP:20260423T060259
CREATED:20191218T040639Z
LAST-MODIFIED:20191218T040639Z
UID:1021-1577354400-1577361600@airobot.ccu.edu.tw
SUMMARY:VR課程： 印尼旅蛙來電了1.1，印尼語組合屋式教學7.3~7.5
DESCRIPTION:參加對象： \n108-1學期有修習”初級印尼語”及選修MOOCs線上課程” 印尼旅蛙來電了 “的學員們都能參加。
URL:https://airobot.ccu.edu.tw/event/vr%e8%aa%b2%e7%a8%8b%ef%bc%9a-%e5%8d%b0%e5%b0%bc%e6%97%85%e8%9b%99%e4%be%86%e9%9b%bb%e4%ba%861-1%ef%bc%8c%e5%8d%b0%e5%b0%bc%e8%aa%9e%e7%b5%84%e5%90%88%e5%b1%8b%e5%bc%8f%e6%95%99%e5%ad%b87-37-5-6/
LOCATION:中正大學智慧機器人自造基地\, 民雄鄉大學路一段168號\, 嘉義縣\, 62102\, 台灣
CATEGORIES:課程/培訓/研習
END:VEVENT
BEGIN:VEVENT
DTSTART;TZID=Asia/Taipei:20191225T140000
DTEND;TZID=Asia/Taipei:20191225T160000
DTSTAMP:20260423T060259
CREATED:20191219T064315Z
LAST-MODIFIED:20200109T060020Z
UID:1024-1577282400-1577289600@airobot.ccu.edu.tw
SUMMARY:網路學習與數位教材設計研究 Research in Web-based learning and design of computer-based learning materials
DESCRIPTION:
URL:https://airobot.ccu.edu.tw/event/%e7%b6%b2%e8%b7%af%e5%ad%b8%e7%bf%92%e8%88%87%e6%95%b8%e4%bd%8d%e6%95%99%e6%9d%90%e8%a8%ad%e8%a8%88%e7%a0%94%e7%a9%b6-research-in-web-based-learning-and-design-of-computer-based-learning-materials-6/
LOCATION:中正大學智慧機器人自造基地\, 民雄鄉大學路一段168號\, 嘉義縣\, 62102\, 台灣
CATEGORIES:課程/培訓/研習
END:VEVENT
BEGIN:VEVENT
DTSTART;TZID=Asia/Taipei:20191225T100000
DTEND;TZID=Asia/Taipei:20191225T120000
DTSTAMP:20260423T060259
CREATED:20191218T040550Z
LAST-MODIFIED:20191218T040550Z
UID:1019-1577268000-1577275200@airobot.ccu.edu.tw
SUMMARY:VR課程： 印尼旅蛙來電了1.1，印尼語組合屋式教學7.3~7.5
DESCRIPTION:參加對象： \n108-1學期有修習”初級印尼語”及選修MOOCs線上課程” 印尼旅蛙來電了 “的學員們都能參加。
URL:https://airobot.ccu.edu.tw/event/vr%e8%aa%b2%e7%a8%8b%ef%bc%9a-%e5%8d%b0%e5%b0%bc%e6%97%85%e8%9b%99%e4%be%86%e9%9b%bb%e4%ba%861-1%ef%bc%8c%e5%8d%b0%e5%b0%bc%e8%aa%9e%e7%b5%84%e5%90%88%e5%b1%8b%e5%bc%8f%e6%95%99%e5%ad%b87-37-5-5/
LOCATION:中正大學智慧機器人自造基地\, 民雄鄉大學路一段168號\, 嘉義縣\, 62102\, 台灣
CATEGORIES:課程/培訓/研習
END:VEVENT
BEGIN:VEVENT
DTSTART;TZID=Asia/Taipei:20191224T100000
DTEND;TZID=Asia/Taipei:20191224T120000
DTSTAMP:20260423T060259
CREATED:20191218T040426Z
LAST-MODIFIED:20191218T040426Z
UID:1017-1577181600-1577188800@airobot.ccu.edu.tw
SUMMARY:VR課程： 印尼旅蛙來電了1.1，印尼語組合屋式教學7.3~7.5
DESCRIPTION:參加對象： \n108-1學期有修習”初級印尼語”及選修MOOCs線上課程” 印尼旅蛙來電了 “的學員們都能參加。
URL:https://airobot.ccu.edu.tw/event/vr%e8%aa%b2%e7%a8%8b%ef%bc%9a-%e5%8d%b0%e5%b0%bc%e6%97%85%e8%9b%99%e4%be%86%e9%9b%bb%e4%ba%861-1%ef%bc%8c%e5%8d%b0%e5%b0%bc%e8%aa%9e%e7%b5%84%e5%90%88%e5%b1%8b%e5%bc%8f%e6%95%99%e5%ad%b87-37-5-4/
LOCATION:中正大學智慧機器人自造基地\, 民雄鄉大學路一段168號\, 嘉義縣\, 62102\, 台灣
CATEGORIES:課程/培訓/研習
END:VEVENT
BEGIN:VEVENT
DTSTART;TZID=Asia/Taipei:20191223T113000
DTEND;TZID=Asia/Taipei:20191223T120000
DTSTAMP:20260423T060259
CREATED:20191224T013022Z
LAST-MODIFIED:20191224T013022Z
UID:1030-1577100600-1577102400@airobot.ccu.edu.tw
SUMMARY:黃宇軒醫師參訪
DESCRIPTION:
URL:https://airobot.ccu.edu.tw/event/%e9%bb%83%e5%ae%87%e8%bb%92%e9%86%ab%e5%b8%ab%e5%8f%83%e8%a8%aa/
LOCATION:中正大學智慧機器人自造基地\, 民雄鄉大學路一段168號\, 嘉義縣\, 62102\, 台灣
CATEGORIES:參訪交流
END:VEVENT
BEGIN:VEVENT
DTSTART;TZID=Asia/Taipei:20191223T100000
DTEND;TZID=Asia/Taipei:20191223T120000
DTSTAMP:20260423T060259
CREATED:20191218T040309Z
LAST-MODIFIED:20191218T040309Z
UID:1015-1577095200-1577102400@airobot.ccu.edu.tw
SUMMARY:VR課程： 印尼旅蛙來電了1.1，印尼語組合屋式教學7.3~7.5
DESCRIPTION:參加對象： \n108-1學期有修習”初級印尼語”及選修MOOCs線上課程” 印尼旅蛙來電了 “的學員們都能參加。
URL:https://airobot.ccu.edu.tw/event/vr%e8%aa%b2%e7%a8%8b%ef%bc%9a-%e5%8d%b0%e5%b0%bc%e6%97%85%e8%9b%99%e4%be%86%e9%9b%bb%e4%ba%861-1%ef%bc%8c%e5%8d%b0%e5%b0%bc%e8%aa%9e%e7%b5%84%e5%90%88%e5%b1%8b%e5%bc%8f%e6%95%99%e5%ad%b87-37-5-3/
LOCATION:中正大學智慧機器人自造基地\, 民雄鄉大學路一段168號\, 嘉義縣\, 62102\, 台灣
CATEGORIES:課程/培訓/研習
END:VEVENT
BEGIN:VEVENT
DTSTART;TZID=Asia/Taipei:20191220T100000
DTEND;TZID=Asia/Taipei:20191220T120000
DTSTAMP:20260423T060259
CREATED:20191218T040130Z
LAST-MODIFIED:20191218T040130Z
UID:1013-1576836000-1576843200@airobot.ccu.edu.tw
SUMMARY:VR課程： 印尼旅蛙來電了1.1，印尼語組合屋式教學7.3~7.5
DESCRIPTION:參加對象：\n\n       108-1學期有修習”初級印尼語”及選修MOOCs線上課程” 印尼旅蛙來電了 “的學員們都能參加。
URL:https://airobot.ccu.edu.tw/event/vr%e8%aa%b2%e7%a8%8b%ef%bc%9a-%e5%8d%b0%e5%b0%bc%e6%97%85%e8%9b%99%e4%be%86%e9%9b%bb%e4%ba%861-1%ef%bc%8c%e5%8d%b0%e5%b0%bc%e8%aa%9e%e7%b5%84%e5%90%88%e5%b1%8b%e5%bc%8f%e6%95%99%e5%ad%b87-37-5-2/
LOCATION:中正大學智慧機器人自造基地\, 民雄鄉大學路一段168號\, 嘉義縣\, 62102\, 台灣
CATEGORIES:課程/培訓/研習
END:VEVENT
BEGIN:VEVENT
DTSTART;TZID=Asia/Taipei:20191219T100000
DTEND;TZID=Asia/Taipei:20191219T120000
DTSTAMP:20260423T060259
CREATED:20191218T040046Z
LAST-MODIFIED:20191218T040046Z
UID:1011-1576749600-1576756800@airobot.ccu.edu.tw
SUMMARY:VR課程： 印尼旅蛙來電了1.1，印尼語組合屋式教學7.3~7.5
DESCRIPTION:參加對象：\n\n       108-1學期有修習”初級印尼語”及選修 MOOCs 線上課程” 印尼旅蛙來電了 “的學員們都能參加。
URL:https://airobot.ccu.edu.tw/event/vr%e8%aa%b2%e7%a8%8b%ef%bc%9a-%e5%8d%b0%e5%b0%bc%e6%97%85%e8%9b%99%e4%be%86%e9%9b%bb%e4%ba%861-1%ef%bc%8c%e5%8d%b0%e5%b0%bc%e8%aa%9e%e7%b5%84%e5%90%88%e5%b1%8b%e5%bc%8f%e6%95%99%e5%ad%b87-37-5/
LOCATION:中正大學智慧機器人自造基地\, 民雄鄉大學路一段168號\, 嘉義縣\, 62102\, 台灣
CATEGORIES:課程/培訓/研習
END:VEVENT
BEGIN:VEVENT
DTSTART;TZID=Asia/Taipei:20191218T140000
DTEND;TZID=Asia/Taipei:20191218T160000
DTSTAMP:20260423T060259
CREATED:20191218T035311Z
LAST-MODIFIED:20191218T035311Z
UID:1009-1576677600-1576684800@airobot.ccu.edu.tw
SUMMARY:網路學習與數位教材設計研究 Research in Web-based learning and design of computer-based learning materials
DESCRIPTION:
URL:https://airobot.ccu.edu.tw/event/%e7%b6%b2%e8%b7%af%e5%ad%b8%e7%bf%92%e8%88%87%e6%95%b8%e4%bd%8d%e6%95%99%e6%9d%90%e8%a8%ad%e8%a8%88%e7%a0%94%e7%a9%b6-research-in-web-based-learning-and-design-of-computer-based-learning-materials-5/
LOCATION:中正大學智慧機器人自造基地\, 民雄鄉大學路一段168號\, 嘉義縣\, 62102\, 台灣
CATEGORIES:課程/培訓/研習
END:VEVENT
BEGIN:VEVENT
DTSTART;TZID=Asia/Taipei:20191211T140000
DTEND;TZID=Asia/Taipei:20191211T160000
DTSTAMP:20260423T060259
CREATED:20191209T033526Z
LAST-MODIFIED:20191209T033526Z
UID:969-1576072800-1576080000@airobot.ccu.edu.tw
SUMMARY:網路學習與數位教材設計研究 Research in Web-based learning and design of computer-based learning materials
DESCRIPTION:
URL:https://airobot.ccu.edu.tw/event/%e7%b6%b2%e8%b7%af%e5%ad%b8%e7%bf%92%e8%88%87%e6%95%b8%e4%bd%8d%e6%95%99%e6%9d%90%e8%a8%ad%e8%a8%88%e7%a0%94%e7%a9%b6-research-in-web-based-learning-and-design-of-computer-based-learning-materials-4/
LOCATION:中正大學智慧機器人自造基地\, 民雄鄉大學路一段168號\, 嘉義縣\, 62102\, 台灣
CATEGORIES:課程/培訓/研習
END:VEVENT
BEGIN:VEVENT
DTSTART;TZID=Asia/Taipei:20191211T083000
DTEND;TZID=Asia/Taipei:20191211T100000
DTSTAMP:20260423T060259
CREATED:20191209T033805Z
LAST-MODIFIED:20191209T033813Z
UID:971-1576053000-1576058400@airobot.ccu.edu.tw
SUMMARY:影片字幕軟體教學
DESCRIPTION:
URL:https://airobot.ccu.edu.tw/event/%e5%bd%b1%e7%89%87%e5%ad%97%e5%b9%95%e8%bb%9f%e9%ab%94%e6%95%99%e5%ad%b8/
LOCATION:中正大學智慧機器人自造基地\, 民雄鄉大學路一段168號\, 嘉義縣\, 62102\, 台灣
CATEGORIES:課程/培訓/研習
END:VEVENT
BEGIN:VEVENT
DTSTART;TZID=Asia/Taipei:20191204T140000
DTEND;TZID=Asia/Taipei:20191204T160000
DTSTAMP:20260423T060259
CREATED:20191209T033438Z
LAST-MODIFIED:20191209T033438Z
UID:967-1575468000-1575475200@airobot.ccu.edu.tw
SUMMARY:網路學習與數位教材設計研究 Research in Web-based learning and design of computer-based learning materials
DESCRIPTION:
URL:https://airobot.ccu.edu.tw/event/%e7%b6%b2%e8%b7%af%e5%ad%b8%e7%bf%92%e8%88%87%e6%95%b8%e4%bd%8d%e6%95%99%e6%9d%90%e8%a8%ad%e8%a8%88%e7%a0%94%e7%a9%b6-research-in-web-based-learning-and-design-of-computer-based-learning-materials-3/
LOCATION:中正大學智慧機器人自造基地\, 民雄鄉大學路一段168號\, 嘉義縣\, 62102\, 台灣
CATEGORIES:課程/培訓/研習
END:VEVENT
BEGIN:VEVENT
DTSTART;VALUE=DATE:20191129
DTEND;VALUE=DATE:20191130
DTSTAMP:20260423T060259
CREATED:20191004T063108Z
LAST-MODIFIED:20191202T090201Z
UID:885-1574985600-1575071999@airobot.ccu.edu.tw
SUMMARY:2019法遵科技與電腦稽核專題競賽  (製商中心-珮蓉)
DESCRIPTION:時間\n項目\n\n\n09:30-10:00\n報到與各組別場佈\n\n\n10:00-10:30\n開幕\n\n\n10:30-10:40\n\n評審會議、各組準備 \n\n\n\n10:40-12:00\n法遵科技與電腦稽核專題複賽\n\n\n12:00-13:00\n裁判資料彙整與評分合計公布決賽名單、午餐\n\n\n13:00-13:30\n決賽報到\n\n\n13:30-15:00\n法遵科技與電腦稽核專題決賽\n\n\n15:00-15:30\n裁判資料彙整與評分合計\n\n\n15:30-16:00\n頒獎
URL:https://airobot.ccu.edu.tw/event/2019%e6%b3%95%e9%81%b5%e7%a7%91%e6%8a%80%e8%88%87%e9%9b%bb%e8%85%a6%e7%a8%bd%e6%a0%b8%e5%b0%88%e9%a1%8c%e7%ab%b6%e8%b3%bd-%e8%a3%bd%e5%95%86%e6%95%b4%e5%90%88%e7%a0%94%e7%a9%b6%e4%b8%ad%e5%bf%83/
LOCATION:中正大學智慧機器人自造基地\, 民雄鄉大學路一段168號\, 嘉義縣\, 62102\, 台灣
CATEGORIES:競賽
ATTACH;FMTTYPE=image/png:https://airobot.ccu.edu.tw/wp-content/uploads/2019/10/2019法遵科技與電腦稽核專題競賽_r1-1.png
ORGANIZER;CN="%E8%A3%BD%E5%95%86%E6%95%B4%E5%90%88%E7%A0%94%E7%A9%B6%E4%B8%AD%E5%BF%83(%E7%8E%8B%E5%B0%8F%E5%A7%90)":MAILTO:deptcmca.01@gmail.com
END:VEVENT
BEGIN:VEVENT
DTSTART;TZID=Asia/Taipei:20191127T140000
DTEND;TZID=Asia/Taipei:20191127T160000
DTSTAMP:20260423T060259
CREATED:20191209T033326Z
LAST-MODIFIED:20191209T033326Z
UID:965-1574863200-1574870400@airobot.ccu.edu.tw
SUMMARY:網路學習與數位教材設計研究 Research in Web-based learning and design of computer-based learning materials
DESCRIPTION:
URL:https://airobot.ccu.edu.tw/event/%e7%b6%b2%e8%b7%af%e5%ad%b8%e7%bf%92%e8%88%87%e6%95%b8%e4%bd%8d%e6%95%99%e6%9d%90%e8%a8%ad%e8%a8%88%e7%a0%94%e7%a9%b6-research-in-web-based-learning-and-design-of-computer-based-learning-materials-2/
LOCATION:中正大學智慧機器人自造基地\, 民雄鄉大學路一段168號\, 嘉義縣\, 62102\, 台灣
CATEGORIES:課程/培訓/研習
END:VEVENT
END:VCALENDAR