BEGIN:VCALENDAR
VERSION:2.0
PRODID:-//AI Robot Maker Space - ECPv6.13.2.1//NONSGML v1.0//EN
CALSCALE:GREGORIAN
METHOD:PUBLISH
X-WR-CALNAME:AI Robot Maker Space
X-ORIGINAL-URL:https://airobot.ccu.edu.tw
X-WR-CALDESC:Events for AI Robot Maker Space
REFRESH-INTERVAL;VALUE=DURATION:PT1H
X-Robots-Tag:noindex
X-PUBLISHED-TTL:PT1H
BEGIN:VTIMEZONE
TZID:Asia/Taipei
BEGIN:STANDARD
TZOFFSETFROM:+0800
TZOFFSETTO:+0800
TZNAME:CST
DTSTART:20190101T000000
END:STANDARD
END:VTIMEZONE
BEGIN:VEVENT
DTSTART;VALUE=DATE:20190923
DTEND;VALUE=DATE:20190928
DTSTAMP:20260420T194236
CREATED:20190909T062003Z
LAST-MODIFIED:20190919T022104Z
UID:825-1569196800-1569628799@airobot.ccu.edu.tw
SUMMARY:自造基地體驗週系列活動
DESCRIPTION:活動大綱： \n快來參加2019自造基地體驗週系列活動，讓你動腦又燒腦，全程參與可參加摸彩，好康就在細節裡，別錯過喔~! \n活動議程： \n9/23-9/25(一~三) 13:00~15:00 \n互動展示：IoT自走車(開城門、搶地盤)、智慧居家環控、智慧手臂(君子動口不動手)。 \n++++++++++++++++++++++++++++++++++++++++ \n9/24(二) 10:00~11:50 \n講座題目：AR/VR遊戲學習暨教學應用平台 \n講者：張志燦教授(明道大學數位設計學系) \n9/24(二) 13:00~15:00 \n互動體驗：沉浸式VR體驗活動，(線上報名，額滿為止。) \n++++++++++++++++++++++++++++++++++++++++ \n9/25(三) 10:00~11:50 \n講座題目：創客教育實施與案例分享 \n講者：程毓明教授(樹德科技大學資工系) \n9/25(三) 13:00~15:00 \n互動體驗：虛擬實境雲端會議體驗(Facebook Spaces)。(線上報名，額滿為止。) \n++++++++++++++++++++++++++++++++++++++++ \n9/26(四) 10:00~11:30 \n講座題目：人工智慧及深度學習的過去、現在及未來。 \n講者：蔡鴻旭教授(虎尾科技大學資管系) \n9/26(四) 15:00~17:00 \n講座題目：AI及機器人達文西手術在醫學上的應用。 \n講者：林威宇醫師(嘉義長庚醫院) \n本課程提供公務人員研習時數登錄 \n協辦單位：高齡跨域創新研究中心 \n++++++++++++++++++++++++++++++++++++++++ \n9/27(五) 10:00~11:50 \n講座題目：樹莓派環境監測與物聯網通訊。 \n講者：蔡政宇博士(中正大學資工系) \n++++++++++++++++++++++++++++++++++++++++ \n主辦單位：國立中正大學資工系 \n參加對象：校內師生 \n活動時間：108年9月23日~108年9月27日 \n活動地點：國立中正大學智慧機器人自造基地 \n活動報名網址：http://bit.ly/2N1zMxW \n講座報名網址：http://bit.ly/2PUMDo1 \n活動相關請洽：(05)272-0411 #23150(辦公室) #23199(基地) \n(本活動由教育部高等教育深耕計畫補助辦理)
URL:https://airobot.ccu.edu.tw/event/%e8%87%aa%e9%80%a0%e5%9f%ba%e5%9c%b0%e9%ab%94%e9%a9%97%e9%80%b1%e7%b3%bb%e5%88%97%e6%b4%bb%e5%8b%95/
LOCATION:中正大學智慧機器人自造基地\, 民雄鄉大學路一段168號\, 嘉義縣\, 62102\, 台灣
CATEGORIES:課程/培訓/研習,論壇/研討會,講座
ATTACH;FMTTYPE=image/jpeg:https://airobot.ccu.edu.tw/wp-content/uploads/2019/09/講座-修訂時間.jpg
END:VEVENT
END:VCALENDAR