BEGIN:VCALENDAR
VERSION:2.0
PRODID:-//AI Robot Maker Space - ECPv6.13.2.1//NONSGML v1.0//EN
CALSCALE:GREGORIAN
METHOD:PUBLISH
X-WR-CALNAME:AI Robot Maker Space
X-ORIGINAL-URL:https://airobot.ccu.edu.tw
X-WR-CALDESC:Events for AI Robot Maker Space
REFRESH-INTERVAL;VALUE=DURATION:PT1H
X-Robots-Tag:noindex
X-PUBLISHED-TTL:PT1H
BEGIN:VTIMEZONE
TZID:Asia/Taipei
BEGIN:STANDARD
TZOFFSETFROM:+0800
TZOFFSETTO:+0800
TZNAME:CST
DTSTART:20180101T000000
END:STANDARD
END:VTIMEZONE
BEGIN:VEVENT
DTSTART;TZID=Asia/Taipei:20240913T120000
DTEND;TZID=Asia/Taipei:20240913T170000
DTSTAMP:20260419T221057
CREATED:20240911T062518Z
LAST-MODIFIED:20240911T062518Z
UID:3978-1726228800-1726246800@airobot.ccu.edu.tw
SUMMARY:AI 導入數位課程研討會
DESCRIPTION:隨著人工智慧 (AI) 技術的不斷進步，教育領域迎來了全新的變革與挑戰。本次研討會旨在探討 AI 如何賦能教育，我們邀請來自醫農藝工聯盟及台灣綜合大學系統的教師，分享最新研究成果和實踐經驗。 誠摯邀請各位教育工作者與研究者參加，共同探索AI在教育領域的無限可能。 \n由成大主辦，邀請臺綜大四校+聯盟計畫五校等，辦理線上活動「AI 導入數位課程研討會」，歡迎老師們有空上線參與，資訊如下：\n活動主題：AI 導入數位課程研討會\n活動時間：113 年 9月13日（五）12:00-17:00\n報名網址：https://reurl.cc/NQ7q35\nWebex 連結：https://reurl.cc/Wx2GEO\n線上手冊：https://issuu.com/nckucfcemoocs/docs/issue_compressed
URL:https://airobot.ccu.edu.tw/event/ai-%e5%b0%8e%e5%85%a5%e6%95%b8%e4%bd%8d%e8%aa%b2%e7%a8%8b%e7%a0%94%e8%a8%8e%e6%9c%83/
CATEGORIES:線上課程,論壇/研討會,講座
ATTACH;FMTTYPE=image/jpeg:https://airobot.ccu.edu.tw/wp-content/uploads/2024/09/messageImage_1726034522583.jpg
END:VEVENT
BEGIN:VEVENT
DTSTART;TZID=Asia/Taipei:20211210T130000
DTEND;TZID=Asia/Taipei:20211210T173000
DTSTAMP:20260419T221057
CREATED:20211206T040224Z
LAST-MODIFIED:20211206T040224Z
UID:3340-1639141200-1639157400@airobot.ccu.edu.tw
SUMMARY:下個世代運算工具：量子電腦
DESCRIPTION:下個世代運算工具：量子電腦(基地實體+線上授課同時舉行) \n活動目的：首先，了解量子電腦的發展史、相關背景知識及未來的發展趨勢。再者，從最基本的量子位元標記法入手及認識基本的運算。進一步認識多量子位元的標記法及其指令的多元運算特性。接著了解量子電腦的原式特性，及量子電腦的應用。最後，研讀一些進階文獻，建立未來研究發展之認知。 \n活動時間：110年12月10日星期五 13:00~17:30 \n活動地點：國立中正大學智慧機器人自造基地(活動中心1樓，入口於湖畔咖啡旁。) \n線上同步：直播網址於活動前一天公佈於FB官網https://www.facebook.com/CCURobot \n\n\n\n議程\n\n\n時間\n活動內容\n主持人、講者\n\n\n13:00-13:10\n基地報到【入場手部消毒、量體温、掃QRCODE】 \n直播準備，線上會議室準備。\n \n\n\n13:10-15:10\n【專題演講】 \n1.     了解量子電腦的發展史、基本知識、發展趨勢。 \n2.     學習基本QPU程式設計、QPU原式、QPU應用。 \n3.     了解未來的研究趨勢。\n中正大學資工系 \n游寶達 教授\n\n\n15:10-15:20\n中場休息\n \n\n\n15:20-17:20\n【專題實作】 \nl   帶領例題實作\n中正大學資工系 \n蔡政宇 助理教授\n\n\n17:20-17:30\nQ&A總結\n \n\n\n\n【參加辦法】 \n\n活動報名：報名表單https://forms.gle/9AjEeUpqCNiNEPWJ9\n活動亮點：\n\n全校學生：本課程即將於110學年度第2學期開課(課名：量子電腦程式設計入門)，參加此次AI系列論壇的同學，將頒發修課時數證明書。 \n教職員工：本活動可認列公務人員學習時數4小時，請欲認證之同仁在12/9(四)下午5點前登入終身學習網完成報名，參加線上講座者請於12/10(五)講座開始時在Youtube直播頻道右側聊天室簽到「單位+姓名」。 \n【注意事項】 \n\n實聯制【入場手部消毒、量體温、掃QRCODE】\n活動全程佩戴口罩，建議自備筆電使用，室內飲食須在規定時間及範圍內食用或帶回。\n授課教師進行授課時，若能保持社交距離或有適當阻隔設備，可以不戴口罩，但授課前及授課結束後仍應佩戴口罩。\n相關防疫依據本校11月1日公告實施，本基地保留視最新情況配合調整授課方式。\n\n【主辦單位】國立中正大學智慧機器人自造基地。 \n【協辦單位】教育部高等教育深耕計畫 \n【活動相關】請洽：(05)272-0411 #23150(辦公室) #23199(基地) \n (本活動由教育部高等教育深耕計畫補助辦理)
URL:https://airobot.ccu.edu.tw/event/%e4%b8%8b%e5%80%8b%e4%b8%96%e4%bb%a3%e9%81%8b%e7%ae%97%e5%b7%a5%e5%85%b7%ef%bc%9a%e9%87%8f%e5%ad%90%e9%9b%bb%e8%85%a6/
LOCATION:中正大學智慧機器人自造基地\, 民雄鄉大學路一段168號\, 嘉義縣\, 62102\, 台灣
CATEGORIES:線上課程,課程/培訓/研習,論壇/研討會
ATTACH;FMTTYPE=image/jpeg:https://airobot.ccu.edu.tw/wp-content/uploads/2021/12/1201＿國立中正大學-資工系_許桂菁A1海報-02.jpg
END:VEVENT
BEGIN:VEVENT
DTSTART;TZID=Asia/Taipei:20211020T111000
DTEND;TZID=Asia/Taipei:20211020T120000
DTSTAMP:20260419T221057
CREATED:20211001T073147Z
LAST-MODIFIED:20211020T010135Z
UID:3265-1634728200-1634731200@airobot.ccu.edu.tw
SUMMARY:【基地微課程_線上】單板機與深度學習應用入門 Single-board Computer and Deep Learning
DESCRIPTION:【課程大綱】\n\n\n\n\n\n\n\n課程名稱(中文)：\n單板機與深度學習應用入門\n開課單位：\n資訊工程學系(Department of Computer Science and Information Engineering)\n\n\n課程名稱(英文)\nSingle-board Computer and Deep Learning\n課程代碼\n4101021_01\n\n\n授課教師：\n蔡政宇\n學分數\n1\n\n\n必/選修\n選修\n開課年級\n大一 (開放全校學生選修)\n\n\n先修科目或先備能力：\n\n無\n\n\n\n課程概述：\n\n本課程以微課程規劃「單板機應用入門」與「深度學習應用入門」兩門課程內容，各0.5學分合計為1學分。\n「單板機應用入門」包含學習虛擬機器、Linux作業系統、Python程式設計、及感測器模組應用…等。\n「深度學習應用入門」包含學習深度學習工具、TensorFlow使用案例、TensorFlow模型訓練與驗證…等。\n\n\n\n學習目標：\n\n1. 學習各種單板機的差異及應用\n2. 學習各種載具間作業系統環境\n3. 學習安裝及使用不同作業系統\n4. 熟練Python程式語言撰寫能力\n5. 學習類神經網路的基本概念\n6. 學習深度學習架構及框架使用\n7. 熟練模型建構、資料訓練之能力\n8. 熟練資料驗證、資料預測之能力\n\n\n\n\n\n\n\n\n\n\n\n教育目標\n\n\n1.專業基礎知識. 使學生擁有扎實的專業基礎知識，成為資訊及相關領域的專業人才\n\n\n2.培養創造能力. 使學生具有運用所學到的各種專業知識與理論以科學的方法解決問題與創新\n\n\n3.自我挑戰能力與終身學習. 讓學生習於自我挑戰、獨立思考，學會思維創新、領導及組織團隊、有效溝通、終身學習之能力\n\n\n4.社會人文素養與國際視野. 讓學生具備關懷社會的情操與人文素養，並具國際觀，奉獻社會國家及人類\n\n\n\n核心能力\n\n\n1.1.具有資訊工程相關基礎知識之吸收與了解的能力(Capability to grasp foundational knowledge in computer science.)\n\n\n1.2.具有運用資訊工程理論及應用知識，分析與解決相關問題的能力(Capability to use computer science theory and application knowledge to analyze and solve related problems.)\n\n\n1.3.在資訊工程的許多領域中，具有至少某一項專業能力，例如：硬體、軟體、多媒體、系統、網路、理論等(Professional in at least one area\, including hardware\, software\, multimedia\, system\, networking\, and theory.)\n\n\n2.1.具有資訊工程實作技術及使用計算機輔助工具的能力(Capability to perform computer science implementations and use computer-aided tools.)\n\n\n2.2.具有設計資訊系統、元件或製程的能力(Capability to design computer systems\, components\, or processes.)\n\n\n2.3.具有科技寫作與簡報的能力。(Capability to write and present technical materials.)\n\n\n3.1.具有除了已有的應用領域之外，亦可以將自己的專業知識應用於新的領域或跨多重領域，進行研發或創新的能力。(Capability to apply one’s professional knowledge to a new application domain or across multiple different application domains.)\n\n\n3.2.具有領導或參與一個團隊完成一項專案任務的能力並且具有溝通、協調與團隊合作的能力。(Capability to lead or participate in group projects\, with effective communication\, coordination\, and teamwork.)\n\n\n3.3.具有因應資訊科技快速變遷之能力，培養自我持續學習之能力。(Capability to adapt to rapidly changing computer science technology and to develop self-learning capabilities.)\n\n\n4.1.具有社會責任、人文素養及奉獻精神。(The awareness of social responsibilities\, humanity\, and contribution.)\n\n\n4.2.具有工程倫理、宏觀能力、國際觀及前瞻視野。(The awareness of engineering ethics\, broad capabilities\, and global and contemporary vision.)
URL:https://airobot.ccu.edu.tw/event/%e3%80%90%e5%9f%ba%e5%9c%b0%e5%be%ae%e8%aa%b2%e7%a8%8b_%e7%b7%9a%e4%b8%8a%e3%80%91%e5%96%ae%e6%9d%bf%e6%a9%9f%e8%88%87%e6%b7%b1%e5%ba%a6%e5%ad%b8%e7%bf%92%e6%87%89%e7%94%a8%e5%85%a5%e9%96%80-single-6/
LOCATION:中正大學智慧機器人自造基地\, 民雄鄉大學路一段168號\, 嘉義縣\, 62102\, 台灣
CATEGORIES:課程/培訓/研習,論壇/研討會
END:VEVENT
BEGIN:VEVENT
DTSTART;TZID=Asia/Taipei:20210611T090000
DTEND;TZID=Asia/Taipei:20210611T120000
DTSTAMP:20260419T221057
CREATED:20210603T021423Z
LAST-MODIFIED:20210604T023913Z
UID:2946-1623402000-1623412800@airobot.ccu.edu.tw
SUMMARY:2021 AIoT論壇：當物聯網遇到AI (線上辦理)
DESCRIPTION:–2021 AIoT論壇：當物聯網遇到AI (線上辦理)– \n\n一、活動目的 \n當全球陸續進入後防疫時期，數位科技相關產業發展前景備受看好，尤其是人工智慧(AI)與物聯網(IoTs)領域，可預見是未來產業焦點。藉由講者精闢的講題與討論，提供全校師生進一步了解這些科技關鍵字，是如何成為改變世界最強大的力量之一。 \n\n二、活動議程(本次活動採線上辦理) \n講座時間：110年6月11日(五) 上午09:00~12:00 \n\n\n\n議程\n\n\n時間\n活動內容\n主持人、講者、與談人\n\n\n9:00-9:10\n報到，直播準備，線上會議室準備。\n\n\n\n9:10-9:20\n開場/引言\n中正大學資工系 游寶達教授\n\n\n9:20-10:10\n專題演講1 \n人工智慧應用於土砂災害影像分析\n中興大學應數系/資科所 蔡鴻旭教授\n\n\n10:10-11:00\n專題演講2 \nMOOCs在物聯網(IoTs)暨人工智慧(AI)之聯盟推動與應用\n宜蘭大學資工系 黃朝曦教授\n\n\n11:10-11:50\n專題與談 \n下個世代運算工具：量子電腦\n主持人：游寶達教授 \n與談人：黃朝曦教授、蔡鴻旭教授\n\n\n11:50-12:00\n總結\n\n\n\n\n直播鏈結：https://youtu.be/3n2lqu3v1qM \n\n三、參加辦法 \n本活動可認列公務人員學習時數2小時，請欲認證之同仁在6/10(四)下午5點前登入終身學習網完成報名，並請於6/11(五)開始聆聽講座時在本次線上講座的Youtube直播頻道掃瞄簽到QRCODE，並於離開前再掃瞄簽退QRCODE，簽到退時間將作為參與活動之證明，敬請注意參與講座時間需達認證時數一半以上，未進行簽到退及時數未滿1小時將不予認列。 \n\n四、其他資訊 \n【活動相關】請洽：(05)272-0411 #23150(辦公室) #23199(基地) \n【主辦單位】高等教育深耕計畫子計畫1-1智慧機器人自造基地。 \n【課後諮詢】平日9:00~17:00，請洽自造基地櫃台#23199。 \n(本活動由教育部高等教育深耕計畫補助辦理)
URL:https://airobot.ccu.edu.tw/event/%e3%80%902021-aiot-%e8%ab%96%e5%a3%87%e3%80%91%e7%95%b6%e7%89%a9%e8%81%af%e7%b6%b2%e9%81%87%e5%88%b0-ai/
CATEGORIES:論壇/研討會,講座
ATTACH;FMTTYPE=image/png:https://airobot.ccu.edu.tw/wp-content/uploads/2021/06/2021-AIoT論壇_海報-02.png
END:VEVENT
BEGIN:VEVENT
DTSTART;TZID=Asia/Taipei:20201205T130000
DTEND;TZID=Asia/Taipei:20201205T210000
DTSTAMP:20260419T221057
CREATED:20201202T025509Z
LAST-MODIFIED:20201202T025509Z
UID:2577-1607173200-1607202000@airobot.ccu.edu.tw
SUMMARY:【社科院線上研討會】後疫情時代的數位學習與工作 : 遠距、演算法與機器人
DESCRIPTION:
URL:https://airobot.ccu.edu.tw/event/%e3%80%90%e7%a4%be%e7%a7%91%e9%99%a2%e7%b7%9a%e4%b8%8a%e7%a0%94%e8%a8%8e%e6%9c%83%e3%80%91%e5%be%8c%e7%96%ab%e6%83%85%e6%99%82%e4%bb%a3%e7%9a%84%e6%95%b8%e4%bd%8d%e5%ad%b8%e7%bf%92%e8%88%87%e5%b7%a5/
LOCATION:中正大學智慧機器人自造基地\, 民雄鄉大學路一段168號\, 嘉義縣\, 62102\, 台灣
CATEGORIES:論壇/研討會
ATTACH;FMTTYPE=image/jpeg:https://airobot.ccu.edu.tw/wp-content/uploads/2020/12/1091205_社科院線上研討會_後疫情時代的數位學習與工作_遠距_演算法與機器人_1-scaled.jpg
END:VEVENT
BEGIN:VEVENT
DTSTART;VALUE=DATE:20200915
DTEND;VALUE=DATE:20200916
DTSTAMP:20260419T221057
CREATED:20200909T063907Z
LAST-MODIFIED:20200909T063911Z
UID:2331-1600128000-1600214399@airobot.ccu.edu.tw
SUMMARY:竹子專題展
DESCRIPTION:
URL:https://airobot.ccu.edu.tw/event/%e7%ab%b9%e5%ad%90%e5%b0%88%e9%a1%8c%e5%b1%95/
LOCATION:中正大學智慧機器人自造基地\, 民雄鄉大學路一段168號\, 嘉義縣\, 62102\, 台灣
CATEGORIES:論壇/研討會
ORGANIZER;CN="%E8%A3%BD%E5%95%86%E6%95%B4%E5%90%88%E7%A0%94%E7%A9%B6%E4%B8%AD%E5%BF%83(%E7%8E%8B%E5%B0%8F%E5%A7%90)":MAILTO:deptcmca.01@gmail.com
END:VEVENT
BEGIN:VEVENT
DTSTART;TZID=Asia/Taipei:20200715T140000
DTEND;TZID=Asia/Taipei:20200715T150000
DTSTAMP:20260419T221057
CREATED:20200713T084105Z
LAST-MODIFIED:20200713T084125Z
UID:2157-1594821600-1594825200@airobot.ccu.edu.tw
SUMMARY:施慧玲老師 製課會議
DESCRIPTION:
URL:https://airobot.ccu.edu.tw/event/%e6%96%bd%e6%85%a7%e7%8e%b2%e8%80%81%e5%b8%ab-%e8%a3%bd%e8%aa%b2%e6%9c%83%e8%ad%b0/
LOCATION:中正大學智慧機器人自造基地\, 民雄鄉大學路一段168號\, 嘉義縣\, 62102\, 台灣
CATEGORIES:論壇/研討會
END:VEVENT
BEGIN:VEVENT
DTSTART;TZID=Asia/Taipei:20200706T100000
DTEND;TZID=Asia/Taipei:20200706T123000
DTSTAMP:20260419T221057
CREATED:20200619T082358Z
LAST-MODIFIED:20200619T082358Z
UID:2078-1594029600-1594038600@airobot.ccu.edu.tw
SUMMARY:MOOCs and VR in Second Language Classrooms”線上專題演講
DESCRIPTION:MOOCs and VR in Second Language Classrooms”線上專題演講(何德華老師) \nThis panel presentation illustrates how we developed digital resources to teach Austronesian languages and linguistics in Taiwan. Part I presents how we developed and implemented two Indonesian massive open online courses (MOOC) to train university students to analyze linguistic structures in Austronesian languages and learn Indonesian as a second language (ISL). Part II presents the results of our newest inquiry\, using CoSpaces to create virtual reality (VR) stories in Filipino and Indonesian. Finally\, we provide pedagogical implications on how to integrate digital technology into teaching and learning a foreign language in the digital age. \nLinks to our digital resources:\nIndonesian MOOCs\n(1) Prefabricated Learning in Indonesian:\n\n(2) Indonesian Travel Frog CALLed\n \nCoSpaces examples:\n(1) Indonesian VR story:\n\n(2) Filipino VR story:\n \n  \n 
URL:https://airobot.ccu.edu.tw/event/moocs-and-vr-in-second-language-classrooms%e7%b7%9a%e4%b8%8a%e5%b0%88%e9%a1%8c%e6%bc%94%e8%ac%9b/
LOCATION:中正大學智慧機器人自造基地\, 民雄鄉大學路一段168號\, 嘉義縣\, 62102\, 台灣
CATEGORIES:論壇/研討會,講座
END:VEVENT
BEGIN:VEVENT
DTSTART;TZID=Asia/Taipei:20200602T130000
DTEND;TZID=Asia/Taipei:20200602T150000
DTSTAMP:20260419T221057
CREATED:20200602T044054Z
LAST-MODIFIED:20200602T044054Z
UID:1990-1591102800-1591110000@airobot.ccu.edu.tw
SUMMARY:台灣的易文化與實務
DESCRIPTION:
URL:https://airobot.ccu.edu.tw/event/%e5%8f%b0%e7%81%a3%e7%9a%84%e6%98%93%e6%96%87%e5%8c%96%e8%88%87%e5%af%a6%e5%8b%99/
LOCATION:中正大學智慧機器人自造基地\, 民雄鄉大學路一段168號\, 嘉義縣\, 62102\, 台灣
CATEGORIES:課程/培訓/研習,論壇/研討會
ATTACH;FMTTYPE=image/jpeg:https://airobot.ccu.edu.tw/wp-content/uploads/2020/06/台灣的易文化與實務.jpg
END:VEVENT
BEGIN:VEVENT
DTSTART;TZID=Asia/Taipei:20200602T103000
DTEND;TZID=Asia/Taipei:20200602T123000
DTSTAMP:20260419T221057
CREATED:20200601T073118Z
LAST-MODIFIED:20200602T043835Z
UID:1987-1591093800-1591101000@airobot.ccu.edu.tw
SUMMARY:從海峽兩岸的雲端易數網看全球化的徑路
DESCRIPTION:
URL:https://airobot.ccu.edu.tw/event/%e5%be%9e%e6%b5%b7%e5%b3%bd%e5%85%a9%e5%b2%b8%e7%9a%84%e9%9b%b2%e7%ab%af%e6%98%93%e6%95%b8%e7%b6%b2%e7%9c%8b%e5%85%a8%e7%90%83%e5%8c%96%e7%9a%84%e5%be%91%e8%b7%af/
LOCATION:中正大學智慧機器人自造基地\, 民雄鄉大學路一段168號\, 嘉義縣\, 62102\, 台灣
CATEGORIES:課程/培訓/研習,論壇/研討會
ATTACH;FMTTYPE=image/jpeg:https://airobot.ccu.edu.tw/wp-content/uploads/2020/06/從海峽兩岸的雲端易數網看全球化的徑路.jpg
END:VEVENT
BEGIN:VEVENT
DTSTART;TZID=Asia/Taipei:20200516T090000
DTEND;TZID=Asia/Taipei:20200516T120000
DTSTAMP:20260419T221057
CREATED:20200515T033416Z
LAST-MODIFIED:20200619T074446Z
UID:1890-1589619600-1589630400@airobot.ccu.edu.tw
SUMMARY:易經的人文與科技應用
DESCRIPTION:
URL:https://airobot.ccu.edu.tw/event/%e6%98%93%e7%b6%93%e7%9a%84%e6%99%ba%e6%85%a7%e6%95%99%e5%ad%b8%e5%b7%a5%e4%bd%9c%e5%9d%8a/
LOCATION:中正大學智慧機器人自造基地\, 民雄鄉大學路一段168號\, 嘉義縣\, 62102\, 台灣
CATEGORIES:課程/培訓/研習,論壇/研討會,講座
ATTACH;FMTTYPE=image/jpeg:https://airobot.ccu.edu.tw/wp-content/uploads/2020/05/易經的人文與科技應用.jpg
END:VEVENT
BEGIN:VEVENT
DTSTART;TZID=Asia/Taipei:20200410T100000
DTEND;TZID=Asia/Taipei:20200410T120000
DTSTAMP:20260419T221057
CREATED:20200409T024558Z
LAST-MODIFIED:20200421T024848Z
UID:1839-1586512800-1586520000@airobot.ccu.edu.tw
SUMMARY:長者人權門診課程製課會議
DESCRIPTION:課程: 長者人權門診課程製課會議 \n授課講師; 施慧玲 老師 \n 
URL:https://airobot.ccu.edu.tw/event/%e9%95%b7%e8%80%85%e4%ba%ba%e6%ac%8a%e9%96%80%e8%a8%ba%e8%aa%b2%e7%a8%8b%e8%a3%bd%e8%aa%b2%e6%9c%83%e8%ad%b0/
LOCATION:中正大學智慧機器人自造基地\, 民雄鄉大學路一段168號\, 嘉義縣\, 62102\, 台灣
CATEGORIES:課程/培訓/研習,論壇/研討會
END:VEVENT
BEGIN:VEVENT
DTSTART;VALUE=DATE:20190923
DTEND;VALUE=DATE:20190928
DTSTAMP:20260419T221057
CREATED:20190909T062003Z
LAST-MODIFIED:20190919T022104Z
UID:825-1569196800-1569628799@airobot.ccu.edu.tw
SUMMARY:自造基地體驗週系列活動
DESCRIPTION:活動大綱： \n快來參加2019自造基地體驗週系列活動，讓你動腦又燒腦，全程參與可參加摸彩，好康就在細節裡，別錯過喔~! \n活動議程： \n9/23-9/25(一~三) 13:00~15:00 \n互動展示：IoT自走車(開城門、搶地盤)、智慧居家環控、智慧手臂(君子動口不動手)。 \n++++++++++++++++++++++++++++++++++++++++ \n9/24(二) 10:00~11:50 \n講座題目：AR/VR遊戲學習暨教學應用平台 \n講者：張志燦教授(明道大學數位設計學系) \n9/24(二) 13:00~15:00 \n互動體驗：沉浸式VR體驗活動，(線上報名，額滿為止。) \n++++++++++++++++++++++++++++++++++++++++ \n9/25(三) 10:00~11:50 \n講座題目：創客教育實施與案例分享 \n講者：程毓明教授(樹德科技大學資工系) \n9/25(三) 13:00~15:00 \n互動體驗：虛擬實境雲端會議體驗(Facebook Spaces)。(線上報名，額滿為止。) \n++++++++++++++++++++++++++++++++++++++++ \n9/26(四) 10:00~11:30 \n講座題目：人工智慧及深度學習的過去、現在及未來。 \n講者：蔡鴻旭教授(虎尾科技大學資管系) \n9/26(四) 15:00~17:00 \n講座題目：AI及機器人達文西手術在醫學上的應用。 \n講者：林威宇醫師(嘉義長庚醫院) \n本課程提供公務人員研習時數登錄 \n協辦單位：高齡跨域創新研究中心 \n++++++++++++++++++++++++++++++++++++++++ \n9/27(五) 10:00~11:50 \n講座題目：樹莓派環境監測與物聯網通訊。 \n講者：蔡政宇博士(中正大學資工系) \n++++++++++++++++++++++++++++++++++++++++ \n主辦單位：國立中正大學資工系 \n參加對象：校內師生 \n活動時間：108年9月23日~108年9月27日 \n活動地點：國立中正大學智慧機器人自造基地 \n活動報名網址：http://bit.ly/2N1zMxW \n講座報名網址：http://bit.ly/2PUMDo1 \n活動相關請洽：(05)272-0411 #23150(辦公室) #23199(基地) \n(本活動由教育部高等教育深耕計畫補助辦理)
URL:https://airobot.ccu.edu.tw/event/%e8%87%aa%e9%80%a0%e5%9f%ba%e5%9c%b0%e9%ab%94%e9%a9%97%e9%80%b1%e7%b3%bb%e5%88%97%e6%b4%bb%e5%8b%95/
LOCATION:中正大學智慧機器人自造基地\, 民雄鄉大學路一段168號\, 嘉義縣\, 62102\, 台灣
CATEGORIES:課程/培訓/研習,論壇/研討會,講座
ATTACH;FMTTYPE=image/jpeg:https://airobot.ccu.edu.tw/wp-content/uploads/2019/09/講座-修訂時間.jpg
END:VEVENT
BEGIN:VEVENT
DTSTART;TZID=Asia/Taipei:20190626T080000
DTEND;TZID=Asia/Taipei:20190626T170000
DTSTAMP:20260419T221057
CREATED:20190522T072007Z
LAST-MODIFIED:20190816T030621Z
UID:683-1561536000-1561568400@airobot.ccu.edu.tw
SUMMARY:深化數位學習計畫推動交流會(12校)
DESCRIPTION:
URL:https://airobot.ccu.edu.tw/event/%e6%b7%b1%e5%8c%96%e6%95%b8%e4%bd%8d%e5%ad%b8%e7%bf%92%e8%a8%88%e7%95%ab%e6%8e%a8%e5%8b%95%e4%ba%a4%e6%b5%81%e6%9c%8312%e6%a0%a1/
LOCATION:中正大學智慧機器人自造基地\, 民雄鄉大學路一段168號\, 嘉義縣\, 62102\, 台灣
CATEGORIES:論壇/研討會
ATTACH;FMTTYPE=image/png:https://airobot.ccu.edu.tw/wp-content/uploads/2019/05/6月交流座談會海報A1_p001.png
END:VEVENT
BEGIN:VEVENT
DTSTART;TZID=Asia/Taipei:20190412T103000
DTEND;TZID=Asia/Taipei:20190412T120000
DTSTAMP:20260419T221057
CREATED:20190522T070129Z
LAST-MODIFIED:20190522T070129Z
UID:674-1555065000-1555070400@airobot.ccu.edu.tw
SUMMARY:與嘉義縣府團隊交流活動
DESCRIPTION:議程如下 \n\n\n\n時間\n內容\n地點\n備註\n\n\n09:20～09:30\n來賓交流互換名片\n創新大樓管理學院565室\n \n\n\n09:30～09:35\n本校蔡副校長榮婷致歡迎詞&介紹本校出席人員\n創新大樓管理學院565室\n \n\n\n09:35～09:40\n吳副縣長容輝致詞&介紹嘉義縣政府長官\n創新大樓管理學院565室\n \n\n\n09:40～09:55\n本校推動大學社會責任計畫執行成果介紹-以下由各計畫主持人進行簡介。(每人請勿超過4分鐘)\n創新大樓管理學院565室\nＡ：傳播系管中祥老師 \nＢ：通識中心胡維平主任 \nＣ：黃士銘研發長\n\n\n09:55～10:25\n參訪-竹光發熱黑金計畫成果展示區\n創新大樓管理學院476/478室/機械窯\n分成兩組進行介紹 \n由Ｃ類計畫簡介\n\n\n10:25～10:50\n參訪創新創業基地\n大學宿舍EB1\n由創新創業基地簡介\n\n\n10:50～11:15\n參訪智慧機器人自造基地&交流座談及意見交換\n活動中心地下一樓\n由智慧機器人自造基地簡介 \n蔡副校長主持：交流座談及意見交換\n\n\n11:15～13:30\n餐敘/賦歸\n 高賓餐廳(嘉義縣府安排的場地)\n 
URL:https://airobot.ccu.edu.tw/event/%e8%88%87%e5%98%89%e7%be%a9%e7%b8%a3%e5%ba%9c%e5%9c%98%e9%9a%8a%e4%ba%a4%e6%b5%81%e6%b4%bb%e5%8b%95/
LOCATION:中正大學智慧機器人自造基地\, 民雄鄉大學路一段168號\, 嘉義縣\, 62102\, 台灣
CATEGORIES:論壇/研討會
END:VEVENT
BEGIN:VEVENT
DTSTART;VALUE=DATE:20180706
DTEND;VALUE=DATE:20180707
DTSTAMP:20260419T221057
CREATED:20180619T040900Z
LAST-MODIFIED:20180619T041053Z
UID:309-1530835200-1530921599@airobot.ccu.edu.tw
SUMMARY:金融科技企業經營與財務風險管理實務論壇
DESCRIPTION:論壇議程\n\n\n2018年7月06日(星期五)\n\n\n時間\n內容\n地點\n\n\n13:10-13:30\n報到\n中正大學\n南科創新育成基地會議室\n\n\n13:30-13:40\n開場致詞 \n中正大學會計與資訊科技學系暨研究所 \n林岳喬 專任副教授暨學程執行長\n中正大學\n南科創新育成基地會議室\n\n\n13:40-14:10\n運用大數據解析中國企業信用風險 \n法商科法斯台灣分公司 \n張育立 總經理\n中正大學\n南科創新育成基地會議室\n\n\n14:10-15:10\n企業法律風險實務－談採購與交易契約實務 \n博胤法律事務所 \n陳健 律師\n中正大學\n南科創新育成基地會議室\n\n\n15:10-15:20\n休息與交流時間\n中正大學 \n南科創新育成基地會議室\n\n\n15:20-16:20\n互聯網時代下信用風險管理及催收實務應用 \n法商科法斯台灣分公司 \n理賠及催收部 鄧昌國 經理 \n業務部  劉雲雄 經理\n中正大學 \n南科創新育成基地會議室\n\n\n16:20-16:30\n產學技術推廣說明與綜合討論 \n中正大學研發處技術推廣中心 \n南科創新育成基地 \n楊世億經理\n中正大學 \n南科創新育成基地會議室
URL:https://airobot.ccu.edu.tw/event/%e9%87%91%e8%9e%8d%e7%a7%91%e6%8a%80%e4%bc%81%e6%a5%ad%e7%b6%93%e7%87%9f%e8%88%87%e8%b2%a1%e5%8b%99%e9%a2%a8%e9%9a%aa%e7%ae%a1%e7%90%86%e5%af%a6%e5%8b%99%e8%ab%96%e5%a3%87/
LOCATION:中正大學南科創新育成基地會議室
CATEGORIES:論壇/研討會
ATTACH;FMTTYPE=image/png:https://airobot.ccu.edu.tw/wp-content/uploads/2018/06/fintech_r1.png
END:VEVENT
BEGIN:VEVENT
DTSTART;VALUE=DATE:20180628
DTEND;VALUE=DATE:20180630
DTSTAMP:20260419T221057
CREATED:20180601T151454Z
LAST-MODIFIED:20180609T010446Z
UID:175-1530144000-1530316799@airobot.ccu.edu.tw
SUMMARY:法遵科技與電腦稽核卓越營
DESCRIPTION:Academic Workshop on Regtech and Computer Auditing\n會議日期時間：2018年6月28日~6月29日 \n會議地點：中正大學創新大樓5樓，個案教室 \n\n緣起與特色\n\n因應金融科技產業的興起，為了加速金融科技之發展與程式技術之研發，卓越營作為金融科技(Fintech)與法遵科技(Regtech)學術、實務交流，以及透過學術論文發表，由專家直接指導、建議之平台。\n「法遵科技與電腦稽核卓越營」兩個亮點是，專家專題講座、專家指導指導論文。\n\n\n專題演講 (2018年6月28日)\n\n我們邀請到國際電腦稽核的新星TAWEI (DAVID) WANG(王大維)助理教授，原受聘於台灣大學(2009-2011)，目前已轉任教於美國Purdue University會計與資訊科技學院。已發表國際知名期刊共33篇，橫跨會計、金融、資訊管理領域，包括Information Systems Research\, Information Systems Research\, Decision Support Systems\, European Journal of Information Systems\, Information and Management\, Information Systems Journal\, Journal of Accounting and Public Policy\, Journal of Banking and Finance\, Journal of Information Systems。Brigham Young University accounting researcher ranking，王大維老師在AIS研究學者排名第二，並期刊被下載超過22\,000次。王大維老師的專長是電腦稽核、CAATs、Fintech、Regtech的專家。\n主講題目：The Effect of Competitive Actions and Social Media Perceptions on Offline Car Sales after Automobile Recalls\n有意者，請至網址 https://docs.google.com/forms/d/1oX0NjcK_EytJIzWFz2GHbHNweX1zm6E93gU-fWjuqBk\n\n\n論文發表、面對面指導\n\n卓越營接受金融科技(Fintech)、法遵科技(Regtech)、電腦稽核、金融、資訊管理相關領域議題的論文。\n論文發表形式，口頭發表論文。(注意事項，論文發表時間約20分鐘)、論文不限格式。統一彙整成論文集。\n所有論文發表者口頭報告後，統一由王大維老師評論、建議。\n有意者，請至網址(6/29日，中午有提供會議餐點)\n\n\n\nhttps://docs.google.com/forms/d/1zzNI4JHlg7Ap6gS5jNRMXMTRva8yl9xta2MEqPfBs8M \n\n論文發表收件說明\n\n稿件截稿日期：即日起至2018年6月26日。\n稿件寄送方式：以電子信箱，將論文電子檔投稿至t.player@gmail.com。\n\n\n郵件主旨：法遵科技與電腦稽核卓越營投稿_作者姓名_學校系所\n論文電子檔：(1)Word檔；(2)PDF檔，電子檔檔名：論文名稱_作者姓名_發表者姓名。\n稿件送出後，我們會以電子郵件回覆通知。\n\n專家講座報名截止日期：即日起至2018年6月27日。
URL:https://airobot.ccu.edu.tw/event/%e6%b3%95%e9%81%b5%e7%a7%91%e6%8a%80%e8%88%87%e9%9b%bb%e8%85%a6%e7%a8%bd%e6%a0%b8%e5%8d%93%e8%b6%8a%e7%87%9f/
LOCATION:中正大學智慧機器人自造基地\, 民雄鄉大學路一段168號\, 嘉義縣\, 62102\, 台灣
CATEGORIES:論壇/研討會
ATTACH;FMTTYPE=image/jpeg:https://airobot.ccu.edu.tw/wp-content/uploads/2018/06/2018062829卓越營.jpg
END:VEVENT
BEGIN:VEVENT
DTSTART;VALUE=DATE:20180615
DTEND;VALUE=DATE:20180616
DTSTAMP:20260419T221057
CREATED:20180606T035253Z
LAST-MODIFIED:20180609T010054Z
UID:258-1529020800-1529107199@airobot.ccu.edu.tw
SUMMARY:2018 智慧新前景，金融大未來
DESCRIPTION:http://www.ccu.edu.tw/show_news.php?id=3791 \n深度學習領域與人工智慧熱潮盛行，為人們帶來許多便捷的金融服務，而在這股風潮下，又將產生哪些新金融科技？中正大學產業發展與預測研究中心與南部科學工業園區管理局將於6月15日在該校管理學院B1國際會議廳舉辦「智慧大未來，金融新前景」金融科技論壇，邀請到國外重量級學者 Dr. Diane Hu蒞臨分享對金融與智慧趨勢的看法，歡迎中正校內外師生、民眾報名參加。 \n這次活動規劃「國際專家專題演講」和「人工智慧發展與突破」2大主題與座談，特別邀請國外知名學者 Dr. Diane Hu及4位業界領域專家分享金融科技（Fintech）、人工智慧（AI）的現況發展、實際應用及發展趨勢等議題。每個主題將進行2個小時的分享與探討，先由講者依主題演講後，再以座談方式讓講者、主持人及現場來賓針對相關議題互動交流。 \n在美國華盛頓大學、加州大學取得電腦科學與機器學習的碩博士學位後，Dr. Diane Hu便任職於Intel、Yahoo等科技大廠，負責探勘與分析使用者資料，最近也被聘至Etsy擔任高階主管，擁有相當豐富的實務經驗，對機器學習及金融科技的應用更有一套獨特見解。 \n主辦單位表示，「智慧大未來，金融新前景」論壇邀請專家學者介紹人工智慧發展與金融科技的國際新趨勢，將可瞭解最新的世界脈動。而透過匯集產、官、學、研及國際夥伴等各方資源，這次論壇也建立完整開放的資源整合平台，促使各界在學術研究、人才培育、國際及產學合作上的關係更加緊密。 \n此外，Dr. Diane Hu將於6月13日先行在管理學院210會議室分享「Increasing Sales Through Large-Scale Machine-Learned」。中正大學產測研究中心表示，先前和南科管理局舉辦「智慧金融科技之發展與創新應用」金融科技論壇，當時與會人數超過100人，獲得廣大迴響，這次重金邀請國際知名學者蒞臨，歡迎更多對現今金融科技有興趣的師生踴躍報名參加。 \n　想從國際觀的角度瞭解金融科技嗎？絕對不能錯過Dr. Diane的分享！「智慧大未來，金融新前景」壇報名至6月13日下午5時為止，名額有限，請把握機會盡速報名，活動連結為 https://bit.ly/2JdV5Ld，有任何疑問請洽詢中正大學產測中心兼任助理王先生，手機 0937525063，信箱 qwe12358qwe@gmail.com。
URL:https://airobot.ccu.edu.tw/event/2018-%e6%99%ba%e6%85%a7%e6%96%b0%e5%89%8d%e6%99%af%ef%bc%8c%e9%87%91%e8%9e%8d%e5%a4%a7%e6%9c%aa%e4%be%86/
LOCATION:國立中正大學 管理學院 B1演講廳\, 大學路一段168號\, 民雄鄉\, 嘉義縣\, 62102\, 台灣
CATEGORIES:論壇/研討會
ATTACH;FMTTYPE=image/jpeg:https://airobot.ccu.edu.tw/wp-content/uploads/2018/06/1528253693180.jpg
END:VEVENT
END:VCALENDAR