BEGIN:VCALENDAR
VERSION:2.0
PRODID:-//AI Robot Maker Space - ECPv6.13.2.1//NONSGML v1.0//EN
CALSCALE:GREGORIAN
METHOD:PUBLISH
X-WR-CALNAME:AI Robot Maker Space
X-ORIGINAL-URL:https://airobot.ccu.edu.tw
X-WR-CALDESC:Events for AI Robot Maker Space
REFRESH-INTERVAL;VALUE=DURATION:PT1H
X-Robots-Tag:noindex
X-PUBLISHED-TTL:PT1H
BEGIN:VTIMEZONE
TZID:Asia/Taipei
BEGIN:STANDARD
TZOFFSETFROM:+0800
TZOFFSETTO:+0800
TZNAME:CST
DTSTART:20230101T000000
END:STANDARD
END:VTIMEZONE
BEGIN:VEVENT
DTSTART;TZID=Asia/Taipei:20230722T090000
DTEND;TZID=Asia/Taipei:20230722T120000
DTSTAMP:20260420T145535
CREATED:20230727T022105Z
LAST-MODIFIED:20240520T021111Z
UID:3763-1690016400-1690027200@airobot.ccu.edu.tw
SUMMARY:未來小小工程師：虛實整合工作坊
DESCRIPTION:
URL:https://airobot.ccu.edu.tw/event/3d%e5%88%97%e5%8d%b0%e5%88%9d%e9%9a%8e%e8%aa%b2%e7%a8%8b-%e6%9c%aa%e4%be%86%e5%b0%8f%e5%b0%8f%e5%b7%a5%e7%a8%8b%e5%b8%ab%ef%bc%9a%e8%99%9b%e5%af%a6%e6%95%b4%e5%90%88%e5%b7%a5%e4%bd%9c%e5%9d%8a/
LOCATION:中正大學智慧機器人自造基地\, 民雄鄉大學路一段168號\, 嘉義縣\, 62102\, 台灣
CATEGORIES:課程/培訓/研習
ATTACH;FMTTYPE=image/jpeg:https://airobot.ccu.edu.tw/wp-content/uploads/2023/07/7月活動1.jpg
END:VEVENT
BEGIN:VEVENT
DTSTART;TZID=Asia/Taipei:20230722T130000
DTEND;TZID=Asia/Taipei:20230722T160000
DTSTAMP:20260420T145535
CREATED:20230727T022845Z
LAST-MODIFIED:20240520T021038Z
UID:3766-1690030800-1690041600@airobot.ccu.edu.tw
SUMMARY:玩轉創新科技：3D模型與AR的魔幻合體
DESCRIPTION:
URL:https://airobot.ccu.edu.tw/event/%e7%8e%a9%e8%bd%89%e5%89%b5%e6%96%b0%e7%a7%91%e6%8a%80%ef%bc%9a3d%e6%a8%a1%e5%9e%8b%e8%88%87ar%e7%9a%84%e9%ad%94%e5%b9%bb%e5%90%88%e9%ab%94/
LOCATION:中正大學智慧機器人自造基地\, 民雄鄉大學路一段168號\, 嘉義縣\, 62102\, 台灣
CATEGORIES:課程/培訓/研習
ATTACH;FMTTYPE=image/jpeg:https://airobot.ccu.edu.tw/wp-content/uploads/2023/07/7月活動2.jpg
END:VEVENT
BEGIN:VEVENT
DTSTART;TZID=Asia/Taipei:20241115T120000
DTEND;TZID=Asia/Taipei:20241115T130000
DTSTAMP:20260420T145535
CREATED:20241108T070721Z
LAST-MODIFIED:20241108T070721Z
UID:3996-1731672000-1731675600@airobot.ccu.edu.tw
SUMMARY:CCUGPT智慧知識庫之進階導入及應用
DESCRIPTION:【CCUGPT智慧知識庫之進階導入及應用】\n活動內容：CCUGPT智慧知識庫(CCUGPT Knowledge Repository)即時互動展示成效\n活動時間：113年11月15日星期五 下午12:00 – 01:05\n活動地點：智慧機器人自造基地、線上會議(http://meet.google.com/grq-fvrh-mjf )\n參加對象：教師、助教、教職員同仁。\n【報名表單】https://events.lib.ccu.edu.tw/event/detail/list/1525/\n【主辦單位】工學院(1-5普及新興科技教育)\n【協辦單位】教育部高等教育深耕計畫\n【活動相關】請洽：(05)272-0411 #23199 (本活動由教育部高等教育深耕計畫補助辦理)
URL:https://airobot.ccu.edu.tw/event/ccugpt%e6%99%ba%e6%85%a7%e7%9f%a5%e8%ad%98%e5%ba%ab%e4%b9%8b%e9%80%b2%e9%9a%8e%e5%b0%8e%e5%85%a5%e5%8f%8a%e6%87%89%e7%94%a8/
CATEGORIES:線上課程,課程/培訓/研習
ATTACH;FMTTYPE=image/jpeg:https://airobot.ccu.edu.tw/wp-content/uploads/2024/11/智慧知識庫_確認_OL_工作區域-1-scaled.jpg
END:VEVENT
BEGIN:VEVENT
DTSTART;TZID=Asia/Taipei:20260320T120000
DTEND;TZID=Asia/Taipei:20260320T140000
DTSTAMP:20260420T145535
CREATED:20260316T063906Z
LAST-MODIFIED:20260316T063906Z
UID:4013-1774008000-1774015200@airobot.ccu.edu.tw
SUMMARY:利用AI快速製作MOOCs教材
DESCRIPTION:利用AI快速製作MOOCs教材 ——「AI教材快速製作：ezMOOC智慧平台應用工作坊」\n活動內容：AI 快速製作技術分享暨現場指導操作\n活動時間：115年3月20日星期五 下午12:00 – 14:00\n活動地點：智慧機器人自造基地、線上會議\n參加對象：教師、助教、教職員同仁\n【報名表單】https://events.lib.ccu.edu.tw/event/detail/list/1964/\n【主辦單位】工學院(1-4普及新興科技教育)、智慧機器人自造基地\n【協辦單位】教育部高等教育深耕計畫、台灣綜合大學系統(TCUS)\n【活動相關】請洽：(05)272-0411 #23199 (本活動由教育部高等教育深耕計畫補助辦理)
URL:https://airobot.ccu.edu.tw/event/%e5%88%a9%e7%94%a8ai%e5%bf%ab%e9%80%9f%e8%a3%bd%e4%bd%9cmoocs%e6%95%99%e6%9d%90/
LOCATION:中正大學智慧機器人自造基地\, 民雄鄉大學路一段168號\, 嘉義縣\, 62102\, 台灣
CATEGORIES:線上課程,課程/培訓/研習
ATTACH;FMTTYPE=image/jpeg:https://airobot.ccu.edu.tw/wp-content/uploads/2026/03/AI教材極速製作：ezMOOC智慧平台應用工作坊_海報-1-1.jpg
END:VEVENT
BEGIN:VEVENT
DTSTART;TZID=Asia/Taipei:20260417T120000
DTEND;TZID=Asia/Taipei:20260417T130000
DTSTAMP:20260420T145535
CREATED:20260409T004459Z
LAST-MODIFIED:20260409T004459Z
UID:4033-1776427200-1776430800@airobot.ccu.edu.tw
SUMMARY:AI教材快速製作：ezMOOC智慧平台應用工作坊
DESCRIPTION:AI×MOOCs ——「AI教材快速製作：ezMOOC智慧平台應用工作坊」\n活動內容：AI 快速製作技術分享暨現場指導操作\n活動時間：115年4月17日星期五 下午12:00 – 13:00\n活動地點：智慧機器人自造基地\n參加對象：教師、助教、教職員同仁\n【報名表單】https://events.lib.ccu.edu.tw/event/detail/list/1999/\n【主辦單位】工學院(1-4普及新興科技教育)、智慧機器人自造基地\n【協辦單位】教育部高等教育深耕計畫\n【活動相關】請洽：(05)272-0411 #23199 (本活動由教育部高等教育深耕計畫補助辦理)
URL:https://airobot.ccu.edu.tw/event/ai%e6%95%99%e6%9d%90%e5%bf%ab%e9%80%9f%e8%a3%bd%e4%bd%9c%ef%bc%9aezmooc%e6%99%ba%e6%85%a7%e5%b9%b3%e5%8f%b0%e6%87%89%e7%94%a8%e5%b7%a5%e4%bd%9c%e5%9d%8a/
LOCATION:中正大學智慧機器人自造基地\, 民雄鄉大學路一段168號\, 嘉義縣\, 62102\, 台灣
CATEGORIES:課程/培訓/研習
ATTACH;FMTTYPE=image/jpeg:https://airobot.ccu.edu.tw/wp-content/uploads/2026/04/AI×MOOCs：ezMOOC智慧平台應用工作坊_海報-2.jpg
END:VEVENT
END:VCALENDAR