BEGIN:VCALENDAR
VERSION:2.0
PRODID:-//AI Robot Maker Space - ECPv6.13.2.1//NONSGML v1.0//EN
CALSCALE:GREGORIAN
METHOD:PUBLISH
X-ORIGINAL-URL:https://airobot.ccu.edu.tw
X-WR-CALDESC:Events for AI Robot Maker Space
REFRESH-INTERVAL;VALUE=DURATION:PT1H
X-Robots-Tag:noindex
X-PUBLISHED-TTL:PT1H
BEGIN:VTIMEZONE
TZID:Asia/Taipei
BEGIN:STANDARD
TZOFFSETFROM:+0800
TZOFFSETTO:+0800
TZNAME:CST
DTSTART:20210101T000000
END:STANDARD
END:VTIMEZONE
BEGIN:VEVENT
DTSTART;TZID=Asia/Taipei:20211001T110000
DTEND;TZID=Asia/Taipei:20211001T173000
DTSTAMP:20260420T080906
CREATED:20210831T071644Z
LAST-MODIFIED:20210927T071728Z
UID:3177-1633086000-1633109400@airobot.ccu.edu.tw
SUMMARY:【教學發展中心直播】110學年度第1學期教學助理認證線上研習會 (3)
DESCRIPTION:
URL:https://airobot.ccu.edu.tw/event/%e3%80%90%e6%95%99%e5%ad%b8%e7%99%bc%e5%b1%95%e4%b8%ad%e5%bf%83%e7%9b%b4%e6%92%ad%e3%80%91110%e5%ad%b8%e5%b9%b4%e5%ba%a6%e7%ac%ac1%e5%ad%b8%e6%9c%9f%e6%95%99%e5%ad%b8%e5%8a%a9%e7%90%86%e8%aa%8d-3/
CATEGORIES:線上課程,課程/培訓/研習
END:VEVENT
END:VCALENDAR