BEGIN:VCALENDAR
VERSION:2.0
PRODID:-//AI Robot Maker Space - ECPv6.13.2.1//NONSGML v1.0//EN
CALSCALE:GREGORIAN
METHOD:PUBLISH
X-WR-CALNAME:AI Robot Maker Space
X-ORIGINAL-URL:https://airobot.ccu.edu.tw
X-WR-CALDESC:Events for AI Robot Maker Space
REFRESH-INTERVAL;VALUE=DURATION:PT1H
X-Robots-Tag:noindex
X-PUBLISHED-TTL:PT1H
BEGIN:VTIMEZONE
TZID:Asia/Taipei
BEGIN:STANDARD
TZOFFSETFROM:+0800
TZOFFSETTO:+0800
TZNAME:CST
DTSTART:20210101T000000
END:STANDARD
END:VTIMEZONE
BEGIN:VEVENT
DTSTART;TZID=Asia/Taipei:20210423T100000
DTEND;TZID=Asia/Taipei:20210423T120000
DTSTAMP:20260423T010435
CREATED:20210419T074748Z
LAST-MODIFIED:20210419T074957Z
UID:2905-1619172000-1619179200@airobot.ccu.edu.tw
SUMMARY:「2021 智慧機器人自造基地XR體驗週」 ---跨域新視界XR延展實境講座---
DESCRIPTION:–跨域新視界XR延展實境講座–\n講座時間：110年4月23日(五) 上午10:00~12:00\n活動地點: 國立中正大學智慧機器人自造基地(活動中心1樓，入口於湖畔咖啡旁。)\n講者：明道大學 數位設計學系 張志燦 助理教授 \n📝 快速報名連結: https://reurl.cc/GdYoEy \n「2021 智慧機器人自造基地XR體驗週」\n實境體驗活動時間：110年4月23日(五) 至 110年4月30日(五) 11:00~01:00【不含六日】\n活動地點: 國立中正大學智慧機器人自造基地(活動中心1樓，入口於湖畔咖啡旁。)\n引導人員：自造基地工作團隊
URL:https://airobot.ccu.edu.tw/event/%e3%80%8c2021-%e6%99%ba%e6%85%a7%e6%a9%9f%e5%99%a8%e4%ba%ba%e8%87%aa%e9%80%a0%e5%9f%ba%e5%9c%b0xr%e9%ab%94%e9%a9%97%e9%80%b1%e3%80%8d-%e8%b7%a8%e5%9f%9f%e6%96%b0%e8%a6%96%e7%95%8cxr%e5%bb%b6/
LOCATION:中正大學智慧機器人自造基地\, 民雄鄉大學路一段168號\, 嘉義縣\, 62102\, 台灣
CATEGORIES:課程/培訓/研習,講座
ATTACH;FMTTYPE=image/jpeg:https://airobot.ccu.edu.tw/wp-content/uploads/2021/04/0423XR海報-scaled.jpg
END:VEVENT
BEGIN:VEVENT
DTSTART;TZID=Asia/Taipei:20210423T110000
DTEND;TZID=Asia/Taipei:20210423T130000
DTSTAMP:20260423T010435
CREATED:20210419T075235Z
LAST-MODIFIED:20210419T075235Z
UID:2907-1619175600-1619182800@airobot.ccu.edu.tw
SUMMARY:「2021 智慧機器人自造基地XR體驗週」
DESCRIPTION:「2021 智慧機器人自造基地XR體驗週」\n實境體驗活動時間：110年4月23日(五) 至 110年4月30日(五) 11:00~01:00【不含六日】\n活動地點: 國立中正大學智慧機器人自造基地(活動中心1樓，入口於湖畔咖啡旁。)\n引導人員：自造基地工作團隊
URL:https://airobot.ccu.edu.tw/event/%e3%80%8c2021-%e6%99%ba%e6%85%a7%e6%a9%9f%e5%99%a8%e4%ba%ba%e8%87%aa%e9%80%a0%e5%9f%ba%e5%9c%b0xr%e9%ab%94%e9%a9%97%e9%80%b1%e3%80%8d/
LOCATION:中正大學智慧機器人自造基地\, 民雄鄉大學路一段168號\, 嘉義縣\, 62102\, 台灣
CATEGORIES:課程/培訓/研習,講座
ATTACH;FMTTYPE=image/jpeg:https://airobot.ccu.edu.tw/wp-content/uploads/2021/04/0423XR海報-scaled.jpg
END:VEVENT
END:VCALENDAR