BEGIN:VCALENDAR
VERSION:2.0
PRODID:-//AI Robot Maker Space - ECPv6.13.2.1//NONSGML v1.0//EN
CALSCALE:GREGORIAN
METHOD:PUBLISH
X-WR-CALNAME:AI Robot Maker Space
X-ORIGINAL-URL:https://airobot.ccu.edu.tw
X-WR-CALDESC:Events for AI Robot Maker Space
REFRESH-INTERVAL;VALUE=DURATION:PT1H
X-Robots-Tag:noindex
X-PUBLISHED-TTL:PT1H
BEGIN:VTIMEZONE
TZID:Asia/Taipei
BEGIN:STANDARD
TZOFFSETFROM:+0800
TZOFFSETTO:+0800
TZNAME:CST
DTSTART:20210101T000000
END:STANDARD
END:VTIMEZONE
BEGIN:VEVENT
DTSTART;TZID=Asia/Taipei:20210420T100000
DTEND;TZID=Asia/Taipei:20210420T130000
DTSTAMP:20260423T010435
CREATED:20210308T074907Z
LAST-MODIFIED:20210308T074907Z
UID:2790-1618912800-1618923600@airobot.ccu.edu.tw
SUMMARY:基礎資訊製作 Introduction to Information Production
DESCRIPTION:課程概述\n本課程為傳播系大一必修課程，屬實作性質課程，藉由密集的資訊製作，期使修課同學體會廣義基礎資訊與技巧，熟練媒介/資訊/故事寫作的基本格式、流程、與架構，以培養提升修課同學之數位資訊製作能力，並體會了解媒介/資訊/故事寫作的相關基本知識與原理，以作為修習後續實作課程與未來就業的基礎。\n\n\n學習目標\n本學期的資訊製作以結合了網頁虛擬實境(WebVR)與擴增實境(WebAR)的混合實境(WebXR)為主要的製作媒介，學生每週藉由實際製作混合實境內容，將平面空間的圓餅圖與折線圖等圖表，轉變為3D空間內的元件，探討新的媒介如何幫助我們重新思考資訊的傳達方式。
URL:https://airobot.ccu.edu.tw/event/%e5%9f%ba%e7%a4%8e%e8%b3%87%e8%a8%8a%e8%a3%bd%e4%bd%9c-introduction-to-information-production-8/
LOCATION:中正大學智慧機器人自造基地\, 民雄鄉大學路一段168號\, 嘉義縣\, 62102\, 台灣
CATEGORIES:課程/培訓/研習
END:VEVENT
END:VCALENDAR