BEGIN:VCALENDAR
VERSION:2.0
PRODID:-//AI Robot Maker Space - ECPv6.13.2.1//NONSGML v1.0//EN
CALSCALE:GREGORIAN
METHOD:PUBLISH
X-WR-CALNAME:AI Robot Maker Space
X-ORIGINAL-URL:https://airobot.ccu.edu.tw
X-WR-CALDESC:Events for AI Robot Maker Space
REFRESH-INTERVAL;VALUE=DURATION:PT1H
X-Robots-Tag:noindex
X-PUBLISHED-TTL:PT1H
BEGIN:VTIMEZONE
TZID:Asia/Taipei
BEGIN:STANDARD
TZOFFSETFROM:+0800
TZOFFSETTO:+0800
TZNAME:CST
DTSTART:20210101T000000
END:STANDARD
END:VTIMEZONE
BEGIN:VEVENT
DTSTART;TZID=Asia/Taipei:20210326T120500
DTEND;TZID=Asia/Taipei:20210326T131000
DTSTAMP:20260423T022403
CREATED:20210309T085603Z
LAST-MODIFIED:20210309T085603Z
UID:2812-1616760300-1616764200@airobot.ccu.edu.tw
SUMMARY:電子白板互動錄影教學
DESCRIPTION:
URL:https://airobot.ccu.edu.tw/event/%e9%9b%bb%e5%ad%90%e7%99%bd%e6%9d%bf%e4%ba%92%e5%8b%95%e9%8c%84%e5%bd%b1%e6%95%99%e5%ad%b8/
LOCATION:中正大學智慧機器人自造基地\, 民雄鄉大學路一段168號\, 嘉義縣\, 62102\, 台灣
CATEGORIES:課程/培訓/研習,講座
END:VEVENT
END:VCALENDAR