BEGIN:VCALENDAR
VERSION:2.0
PRODID:-//AI Robot Maker Space - ECPv6.13.2.1//NONSGML v1.0//EN
CALSCALE:GREGORIAN
METHOD:PUBLISH
X-ORIGINAL-URL:https://airobot.ccu.edu.tw
X-WR-CALDESC:Events for AI Robot Maker Space
REFRESH-INTERVAL;VALUE=DURATION:PT1H
X-Robots-Tag:noindex
X-PUBLISHED-TTL:PT1H
BEGIN:VTIMEZONE
TZID:Asia/Taipei
BEGIN:STANDARD
TZOFFSETFROM:+0800
TZOFFSETTO:+0800
TZNAME:CST
DTSTART:20200101T000000
END:STANDARD
END:VTIMEZONE
BEGIN:VEVENT
DTSTART;TZID=Asia/Taipei:20201108T083000
DTEND;TZID=Asia/Taipei:20201108T170000
DTSTAMP:20260423T074951
CREATED:20201022T062439Z
LAST-MODIFIED:20201104T020727Z
UID:2500-1604824200-1604854800@airobot.ccu.edu.tw
SUMMARY:AI課程_永慶高中
DESCRIPTION:
URL:https://airobot.ccu.edu.tw/event/%e6%b0%b8%e6%85%b6%e9%ab%98%e4%b8%adai%e8%aa%b2%e7%a8%8b/
LOCATION:中正大學智慧機器人自造基地\, 民雄鄉大學路一段168號\, 嘉義縣\, 62102\, 台灣
CATEGORIES:課程/培訓/研習,講座
ATTACH;FMTTYPE=image/png:https://airobot.ccu.edu.tw/wp-content/uploads/2020/10/更新_109_opt.png
END:VEVENT
END:VCALENDAR