BEGIN:VCALENDAR
VERSION:2.0
PRODID:-//AI Robot Maker Space - ECPv6.13.2.1//NONSGML v1.0//EN
CALSCALE:GREGORIAN
METHOD:PUBLISH
X-ORIGINAL-URL:https://airobot.ccu.edu.tw
X-WR-CALDESC:Events for AI Robot Maker Space
REFRESH-INTERVAL;VALUE=DURATION:PT1H
X-Robots-Tag:noindex
X-PUBLISHED-TTL:PT1H
BEGIN:VTIMEZONE
TZID:Asia/Taipei
BEGIN:STANDARD
TZOFFSETFROM:+0800
TZOFFSETTO:+0800
TZNAME:CST
DTSTART:20200101T000000
END:STANDARD
END:VTIMEZONE
BEGIN:VEVENT
DTSTART;TZID=Asia/Taipei:20200814T100000
DTEND;TZID=Asia/Taipei:20200814T120000
DTSTAMP:20260423T115420
CREATED:20200624T053506Z
LAST-MODIFIED:20200915T055833Z
UID:2117-1597399200-1597406400@airobot.ccu.edu.tw
SUMMARY:單板機與Linux作業系統入門
DESCRIPTION:📝快速報名連結: https://reurl.cc/3DRxYV \n🎯詳細課程資訊: https://reurl.cc/xZjeRz
URL:https://airobot.ccu.edu.tw/event/%e5%96%ae%e6%9d%bf%e6%a9%9f%e8%88%87linux%e4%bd%9c%e6%a5%ad%e7%b3%bb%e7%b5%b1%e5%85%a5%e9%96%80-5/
LOCATION:中正大學智慧機器人自造基地\, 民雄鄉大學路一段168號\, 嘉義縣\, 62102\, 台灣
CATEGORIES:課程/培訓/研習,講座
ATTACH;FMTTYPE=image/png:https://airobot.ccu.edu.tw/wp-content/uploads/2020/06/micro-credit-poster_r4.png
END:VEVENT
BEGIN:VEVENT
DTSTART;TZID=Asia/Taipei:20200814T130000
DTEND;TZID=Asia/Taipei:20200814T150000
DTSTAMP:20260423T115420
CREATED:20200624T053918Z
LAST-MODIFIED:20200915T055818Z
UID:2127-1597410000-1597417200@airobot.ccu.edu.tw
SUMMARY:深度學習框架入門
DESCRIPTION:📝快速報名連結: https://reurl.cc/3DRxYV \n🎯詳細課程資訊: https://reurl.cc/xZjeRz
URL:https://airobot.ccu.edu.tw/event/%e6%b7%b1%e5%ba%a6%e5%ad%b8%e7%bf%92%e6%a1%86%e6%9e%b6%e5%85%a5%e9%96%80-5/
LOCATION:中正大學智慧機器人自造基地\, 民雄鄉大學路一段168號\, 嘉義縣\, 62102\, 台灣
CATEGORIES:課程/培訓/研習,講座
ATTACH;FMTTYPE=image/png:https://airobot.ccu.edu.tw/wp-content/uploads/2020/06/micro-credit-poster_r4.png
END:VEVENT
END:VCALENDAR