BEGIN:VCALENDAR
VERSION:2.0
PRODID:-//AI Robot Maker Space - ECPv6.13.2.1//NONSGML v1.0//EN
CALSCALE:GREGORIAN
METHOD:PUBLISH
X-ORIGINAL-URL:https://airobot.ccu.edu.tw
X-WR-CALDESC:Events for AI Robot Maker Space
REFRESH-INTERVAL;VALUE=DURATION:PT1H
X-Robots-Tag:noindex
X-PUBLISHED-TTL:PT1H
BEGIN:VTIMEZONE
TZID:Asia/Taipei
BEGIN:STANDARD
TZOFFSETFROM:+0800
TZOFFSETTO:+0800
TZNAME:CST
DTSTART:20200101T000000
END:STANDARD
END:VTIMEZONE
BEGIN:VEVENT
DTSTART;TZID=Asia/Taipei:20200602T103000
DTEND;TZID=Asia/Taipei:20200602T123000
DTSTAMP:20260423T153650
CREATED:20200601T073118Z
LAST-MODIFIED:20200602T043835Z
UID:1987-1591093800-1591101000@airobot.ccu.edu.tw
SUMMARY:從海峽兩岸的雲端易數網看全球化的徑路
DESCRIPTION:
URL:https://airobot.ccu.edu.tw/event/%e5%be%9e%e6%b5%b7%e5%b3%bd%e5%85%a9%e5%b2%b8%e7%9a%84%e9%9b%b2%e7%ab%af%e6%98%93%e6%95%b8%e7%b6%b2%e7%9c%8b%e5%85%a8%e7%90%83%e5%8c%96%e7%9a%84%e5%be%91%e8%b7%af/
LOCATION:中正大學智慧機器人自造基地\, 民雄鄉大學路一段168號\, 嘉義縣\, 62102\, 台灣
CATEGORIES:課程/培訓/研習,論壇/研討會
ATTACH;FMTTYPE=image/jpeg:https://airobot.ccu.edu.tw/wp-content/uploads/2020/06/從海峽兩岸的雲端易數網看全球化的徑路.jpg
END:VEVENT
BEGIN:VEVENT
DTSTART;TZID=Asia/Taipei:20200602T130000
DTEND;TZID=Asia/Taipei:20200602T150000
DTSTAMP:20260423T153650
CREATED:20200602T044054Z
LAST-MODIFIED:20200602T044054Z
UID:1990-1591102800-1591110000@airobot.ccu.edu.tw
SUMMARY:台灣的易文化與實務
DESCRIPTION:
URL:https://airobot.ccu.edu.tw/event/%e5%8f%b0%e7%81%a3%e7%9a%84%e6%98%93%e6%96%87%e5%8c%96%e8%88%87%e5%af%a6%e5%8b%99/
LOCATION:中正大學智慧機器人自造基地\, 民雄鄉大學路一段168號\, 嘉義縣\, 62102\, 台灣
CATEGORIES:課程/培訓/研習,論壇/研討會
ATTACH;FMTTYPE=image/jpeg:https://airobot.ccu.edu.tw/wp-content/uploads/2020/06/台灣的易文化與實務.jpg
END:VEVENT
END:VCALENDAR