BEGIN:VCALENDAR
VERSION:2.0
PRODID:-//AI Robot Maker Space - ECPv6.13.2.1//NONSGML v1.0//EN
CALSCALE:GREGORIAN
METHOD:PUBLISH
X-WR-CALNAME:AI Robot Maker Space
X-ORIGINAL-URL:https://airobot.ccu.edu.tw
X-WR-CALDESC:Events for AI Robot Maker Space
REFRESH-INTERVAL;VALUE=DURATION:PT1H
X-Robots-Tag:noindex
X-PUBLISHED-TTL:PT1H
BEGIN:VTIMEZONE
TZID:Asia/Taipei
BEGIN:STANDARD
TZOFFSETFROM:+0800
TZOFFSETTO:+0800
TZNAME:CST
DTSTART:20200101T000000
END:STANDARD
END:VTIMEZONE
BEGIN:VEVENT
DTSTART;TZID=Asia/Taipei:20200525T090000
DTEND;TZID=Asia/Taipei:20200525T120000
DTSTAMP:20260423T165539
CREATED:20200515T033537Z
LAST-MODIFIED:20200515T033545Z
UID:1892-1590397200-1590408000@airobot.ccu.edu.tw
SUMMARY:菲律賓語 CoSpaces教學
DESCRIPTION:
URL:https://airobot.ccu.edu.tw/event/%e8%8f%b2%e5%be%8b%e8%b3%93%e8%aa%9e-cospaces%e6%95%99%e5%ad%b8/
LOCATION:中正大學智慧機器人自造基地\, 民雄鄉大學路一段168號\, 嘉義縣\, 62102\, 台灣
CATEGORIES:課程/培訓/研習
END:VEVENT
END:VCALENDAR