BEGIN:VCALENDAR
VERSION:2.0
PRODID:-//AI Robot Maker Space - ECPv6.13.2.1//NONSGML v1.0//EN
CALSCALE:GREGORIAN
METHOD:PUBLISH
X-ORIGINAL-URL:https://airobot.ccu.edu.tw
X-WR-CALDESC:Events for AI Robot Maker Space
REFRESH-INTERVAL;VALUE=DURATION:PT1H
X-Robots-Tag:noindex
X-PUBLISHED-TTL:PT1H
BEGIN:VTIMEZONE
TZID:Asia/Taipei
BEGIN:STANDARD
TZOFFSETFROM:+0800
TZOFFSETTO:+0800
TZNAME:CST
DTSTART:20200101T000000
END:STANDARD
END:VTIMEZONE
BEGIN:VEVENT
DTSTART;TZID=Asia/Taipei:20200714T140000
DTEND;TZID=Asia/Taipei:20200714T160000
DTSTAMP:20260423T113931
CREATED:20200713T083913Z
LAST-MODIFIED:20200713T083918Z
UID:2155-1594735200-1594742400@airobot.ccu.edu.tw
SUMMARY:機器手臂教育訓練
DESCRIPTION:
URL:https://airobot.ccu.edu.tw/event/%e6%a9%9f%e5%99%a8%e6%89%8b%e8%87%82%e6%95%99%e8%82%b2%e8%a8%93%e7%b7%b4/
LOCATION:中正大學智慧機器人自造基地\, 民雄鄉大學路一段168號\, 嘉義縣\, 62102\, 台灣
CATEGORIES:課程/培訓/研習
END:VEVENT
BEGIN:VEVENT
DTSTART;TZID=Asia/Taipei:20200716T100000
DTEND;TZID=Asia/Taipei:20200716T120000
DTSTAMP:20260423T113931
CREATED:20200714T023011Z
LAST-MODIFIED:20200714T023017Z
UID:2160-1594893600-1594900800@airobot.ccu.edu.tw
SUMMARY:小班制直播課 (通識中心)
DESCRIPTION:
URL:https://airobot.ccu.edu.tw/event/%e5%b0%8f%e7%8f%ad%e5%88%b6%e7%9b%b4%e6%92%ad%e8%aa%b2-%e9%80%9a%e8%ad%98%e4%b8%ad%e5%bf%83/
LOCATION:中正大學智慧機器人自造基地\, 民雄鄉大學路一段168號\, 嘉義縣\, 62102\, 台灣
CATEGORIES:課程/培訓/研習,講座
END:VEVENT
END:VCALENDAR