BEGIN:VCALENDAR
VERSION:2.0
PRODID:-//AI Robot Maker Space - ECPv6.13.2.1//NONSGML v1.0//EN
CALSCALE:GREGORIAN
METHOD:PUBLISH
X-ORIGINAL-URL:https://airobot.ccu.edu.tw
X-WR-CALDESC:Events for AI Robot Maker Space
REFRESH-INTERVAL;VALUE=DURATION:PT1H
X-Robots-Tag:noindex
X-PUBLISHED-TTL:PT1H
BEGIN:VTIMEZONE
TZID:Asia/Taipei
BEGIN:STANDARD
TZOFFSETFROM:+0800
TZOFFSETTO:+0800
TZNAME:CST
DTSTART:20200101T000000
END:STANDARD
END:VTIMEZONE
BEGIN:VEVENT
DTSTART;TZID=Asia/Taipei:20200602T103000
DTEND;TZID=Asia/Taipei:20200602T123000
DTSTAMP:20260423T130237
CREATED:20200601T073118Z
LAST-MODIFIED:20200602T043835Z
UID:1987-1591093800-1591101000@airobot.ccu.edu.tw
SUMMARY:從海峽兩岸的雲端易數網看全球化的徑路
DESCRIPTION:
URL:https://airobot.ccu.edu.tw/event/%e5%be%9e%e6%b5%b7%e5%b3%bd%e5%85%a9%e5%b2%b8%e7%9a%84%e9%9b%b2%e7%ab%af%e6%98%93%e6%95%b8%e7%b6%b2%e7%9c%8b%e5%85%a8%e7%90%83%e5%8c%96%e7%9a%84%e5%be%91%e8%b7%af/
LOCATION:中正大學智慧機器人自造基地\, 民雄鄉大學路一段168號\, 嘉義縣\, 62102\, 台灣
CATEGORIES:課程/培訓/研習,論壇/研討會
ATTACH;FMTTYPE=image/jpeg:https://airobot.ccu.edu.tw/wp-content/uploads/2020/06/從海峽兩岸的雲端易數網看全球化的徑路.jpg
END:VEVENT
BEGIN:VEVENT
DTSTART;TZID=Asia/Taipei:20200602T130000
DTEND;TZID=Asia/Taipei:20200602T150000
DTSTAMP:20260423T130237
CREATED:20200602T044054Z
LAST-MODIFIED:20200602T044054Z
UID:1990-1591102800-1591110000@airobot.ccu.edu.tw
SUMMARY:台灣的易文化與實務
DESCRIPTION:
URL:https://airobot.ccu.edu.tw/event/%e5%8f%b0%e7%81%a3%e7%9a%84%e6%98%93%e6%96%87%e5%8c%96%e8%88%87%e5%af%a6%e5%8b%99/
LOCATION:中正大學智慧機器人自造基地\, 民雄鄉大學路一段168號\, 嘉義縣\, 62102\, 台灣
CATEGORIES:課程/培訓/研習,論壇/研討會
ATTACH;FMTTYPE=image/jpeg:https://airobot.ccu.edu.tw/wp-content/uploads/2020/06/台灣的易文化與實務.jpg
END:VEVENT
BEGIN:VEVENT
DTSTART;TZID=Asia/Taipei:20200603T120000
DTEND;TZID=Asia/Taipei:20200603T130000
DTSTAMP:20260423T130237
CREATED:20200603T080257Z
LAST-MODIFIED:20200603T080415Z
UID:1994-1591185600-1591189200@airobot.ccu.edu.tw
SUMMARY:智慧機器人自造基地微課程說明會
DESCRIPTION:誰說一門課要在一學期上完!!\n\n自由選   快速學   動手做 \n      不怕沒機會，就怕你不會!! \n      快來加入自主學習的微課程行列 ，讓你的中正生活更加精彩 ~~~ \n 課程特色: \n\n\n\n\n\n★ 提升自主學習 \n\n\n\n\n\n\n\n\n\n\n\n→打破傳統2學分概念，引導學生做中學，從課程、演講、實作、遠距教學、工作坊等交互應用，朝向多元開放與彈性自主的學用合一目標。   \n\n\n\n\n\n\n\n\n\n\n\n\n\n★ 每門微課程有 1 學分證明 \n →以暑期課程為例: 於108學年度暑修課程開課系統選修『單板機與深度學習應用入門』，內含2門微課程，完成學習則有 1學分，取得該課程修業成績。  \n ★ 修課跨領域 : 不限學系、不限年級! \n →自造基地開設之微課程不限學系，各學院都可前來選修。 →開課對象不限年級，大一到大四到研究生，都歡迎加入自主學習的行列。  \n  自造基地微課程詳細資訊: \n 【課程網頁】 https://reurl.cc/nzpz1d \n【簡報下載】 https://reurl.cc/qdK96D \n\n\n\n\n\n\n\n\n\n\n 6月3日課程說明會，歡迎同學踴躍參加
URL:https://airobot.ccu.edu.tw/event/%e6%99%ba%e6%85%a7%e6%a9%9f%e5%99%a8%e4%ba%ba%e8%87%aa%e9%80%a0%e5%9f%ba%e5%9c%b0%e5%be%ae%e8%aa%b2%e7%a8%8b%e8%aa%aa%e6%98%8e%e6%9c%83/
LOCATION:中正大學智慧機器人自造基地\, 民雄鄉大學路一段168號\, 嘉義縣\, 62102\, 台灣
CATEGORIES:課程/培訓/研習
ATTACH;FMTTYPE=image/png:https://airobot.ccu.edu.tw/wp-content/uploads/2020/06/micro-credit-poster_r4.png
END:VEVENT
BEGIN:VEVENT
DTSTART;TZID=Asia/Taipei:20200612T093000
DTEND;TZID=Asia/Taipei:20200612T120000
DTSTAMP:20260423T130237
CREATED:20200616T070935Z
LAST-MODIFIED:20200616T071347Z
UID:2040-1591954200-1591963200@airobot.ccu.edu.tw
SUMMARY:「多功能行動錄影包」操作講習
DESCRIPTION:一、           活動目標\n提供各學院「多功能行動錄影包」以培訓教師及助教拍攝中、高水準之數位課程，並具有遠距教學營運之能力，進而培訓各學院磨課師專業助理人才，可獨立製作完整課程，以落實中高品質全面遠距教學之實施。 \n  \n二、           活動議程\n\n\n\n「多功能行動錄影包」操作講習\n\n\n參加對象： \n1.      各學院、通識中心、體育中心工作人員或助教參加。 \n2.      對數位課程製作有興趣的教師與助理。 \n活動時間：109年6月12日(五) 上午09:30~12:00 \n活動地點：國立中正大學智慧機器人自造基地(活動中心1樓，入口於湖畔咖啡旁。)\n\n\n活動議程： \n\n\n\n日期\n時間\n課程主題\n學習目標\n講師\n\n\n6/12(五)\n09:30~10:30\n「多功能行動錄影包」操作講習\n1.      單輸入導播作業。 \n2.      分組實際操作。\n資工系 \n游寶達 教授\n\n\n6/12(五)\n10:40~11:40\n「多功能行動錄影包」操作講習\n3.      雙輸入導播作業。 \n4.      分組實際操作。\n蔡政宇 博士\n\n\n\n【報名網址】https://reurl.cc/NjEYlp (會後備有餐盒請至表單勾選) \n【活動相關】請洽：(05)272-0411 #23150(辦公室) #23199(基地) \n【注意事項】 \n1.      課程結束後會與各單位窗口討論如何將錄影包設備讓 貴單位人員帶回，請務必指派人員參加講習，請各學院及中心指派1到2位工作人員、助理或助教參加。 \n「多功能行動錄影包」規格： \n①.      課程錄製行動主機組(筆電+影像擷取卡) \n②.      攝影機組(攝影機+腳架+無線麥克風) \n③.      收納背包 \n2.      本次講習也同時開放給各院對於數位課程製作有興趣的教師及助理，歡迎報名參加。 \n3.      辦理集會活動，請採取實名制(包含姓名、電話及活動紀錄) 且執行人流管制及環境清潔消毒。活動時請勤洗手、注意呼吸道衛生與咳嗽禮節，並保持社交距離(室內1.5公尺，室外1公尺)，若無法保持社交距離，應戴口罩。 \n \n\n\n\n三、           合作團隊及相關資源\n\n主辦單位：高等教育深耕計畫子計畫1-1智慧機器人自造基地。\n課後諮詢及電子白板錄影使用預約：平日9:00~17:00，請洽自造基地櫃台#23199。\n\n(本活動由教育部高等教育深耕計畫補助辦理)
URL:https://airobot.ccu.edu.tw/event/%e3%80%8c%e5%a4%9a%e5%8a%9f%e8%83%bd%e8%a1%8c%e5%8b%95%e9%8c%84%e5%bd%b1%e5%8c%85%e3%80%8d%e6%93%8d%e4%bd%9c%e8%ac%9b%e7%bf%92/
LOCATION:中正大學智慧機器人自造基地\, 民雄鄉大學路一段168號\, 嘉義縣\, 62102\, 台灣
CATEGORIES:課程/培訓/研習
ATTACH;FMTTYPE=image/jpeg:https://airobot.ccu.edu.tw/wp-content/uploads/2020/06/擷取.jpg
END:VEVENT
BEGIN:VEVENT
DTSTART;TZID=Asia/Taipei:20200616T100000
DTEND;TZID=Asia/Taipei:20200616T113000
DTSTAMP:20260423T130237
CREATED:20200616T071139Z
LAST-MODIFIED:20200616T071139Z
UID:2043-1592301600-1592307000@airobot.ccu.edu.tw
SUMMARY:多媒體系統設計期末報告
DESCRIPTION:
URL:https://airobot.ccu.edu.tw/event/%e5%a4%9a%e5%aa%92%e9%ab%94%e7%b3%bb%e7%b5%b1%e8%a8%ad%e8%a8%88%e6%9c%9f%e6%9c%ab%e5%a0%b1%e5%91%8a/
LOCATION:中正大學智慧機器人自造基地\, 民雄鄉大學路一段168號\, 嘉義縣\, 62102\, 台灣
CATEGORIES:課程/培訓/研習
END:VEVENT
BEGIN:VEVENT
DTSTART;TZID=Asia/Taipei:20200618T100000
DTEND;TZID=Asia/Taipei:20200618T113000
DTSTAMP:20260423T130237
CREATED:20200616T071231Z
LAST-MODIFIED:20200616T071231Z
UID:2045-1592474400-1592479800@airobot.ccu.edu.tw
SUMMARY:多媒體系統設計期末報告
DESCRIPTION:
URL:https://airobot.ccu.edu.tw/event/%e5%a4%9a%e5%aa%92%e9%ab%94%e7%b3%bb%e7%b5%b1%e8%a8%ad%e8%a8%88%e6%9c%9f%e6%9c%ab%e5%a0%b1%e5%91%8a-2/
LOCATION:中正大學智慧機器人自造基地\, 民雄鄉大學路一段168號\, 嘉義縣\, 62102\, 台灣
CATEGORIES:課程/培訓/研習
END:VEVENT
BEGIN:VEVENT
DTSTART;TZID=Asia/Taipei:20200623T100000
DTEND;TZID=Asia/Taipei:20200623T113000
DTSTAMP:20260423T130237
CREATED:20200616T071304Z
LAST-MODIFIED:20200616T071304Z
UID:2047-1592906400-1592911800@airobot.ccu.edu.tw
SUMMARY:多媒體系統設計期末報告
DESCRIPTION:
URL:https://airobot.ccu.edu.tw/event/%e5%a4%9a%e5%aa%92%e9%ab%94%e7%b3%bb%e7%b5%b1%e8%a8%ad%e8%a8%88%e6%9c%9f%e6%9c%ab%e5%a0%b1%e5%91%8a-3/
LOCATION:中正大學智慧機器人自造基地\, 民雄鄉大學路一段168號\, 嘉義縣\, 62102\, 台灣
CATEGORIES:課程/培訓/研習
END:VEVENT
BEGIN:VEVENT
DTSTART;TZID=Asia/Taipei:20200629T100000
DTEND;TZID=Asia/Taipei:20200629T140000
DTSTAMP:20260423T130237
CREATED:20200619T081903Z
LAST-MODIFIED:20200619T081922Z
UID:2076-1593424800-1593439200@airobot.ccu.edu.tw
SUMMARY:資管系期末專題報告
DESCRIPTION:聯絡方式 \n國立中正大學製商整合研究中心  王小姐\n電話:05-2720411#16811
URL:https://airobot.ccu.edu.tw/event/%e8%b3%87%e7%ae%a1%e7%b3%bb%e6%9c%9f%e6%9c%ab%e5%b0%88%e9%a1%8c%e5%a0%b1%e5%91%8a/
LOCATION:中正大學智慧機器人自造基地\, 民雄鄉大學路一段168號\, 嘉義縣\, 62102\, 台灣
CATEGORIES:課程/培訓/研習
ORGANIZER;CN="%E8%A3%BD%E5%95%86%E6%95%B4%E5%90%88%E7%A0%94%E7%A9%B6%E4%B8%AD%E5%BF%83(%E7%8E%8B%E5%B0%8F%E5%A7%90)":MAILTO:deptcmca.01@gmail.com
END:VEVENT
END:VCALENDAR