BEGIN:VCALENDAR
VERSION:2.0
PRODID:-//AI Robot Maker Space - ECPv6.13.2.1//NONSGML v1.0//EN
CALSCALE:GREGORIAN
METHOD:PUBLISH
X-WR-CALNAME:AI Robot Maker Space
X-ORIGINAL-URL:https://airobot.ccu.edu.tw
X-WR-CALDESC:Events for AI Robot Maker Space
REFRESH-INTERVAL;VALUE=DURATION:PT1H
X-Robots-Tag:noindex
X-PUBLISHED-TTL:PT1H
BEGIN:VTIMEZONE
TZID:Asia/Taipei
BEGIN:STANDARD
TZOFFSETFROM:+0800
TZOFFSETTO:+0800
TZNAME:CST
DTSTART:20180101T000000
END:STANDARD
END:VTIMEZONE
BEGIN:VEVENT
DTSTART;VALUE=DATE:20190829
DTEND;VALUE=DATE:20190830
DTSTAMP:20260420T231925
CREATED:20190816T032235Z
LAST-MODIFIED:20191015T012940Z
UID:718-1567036800-1567123199@airobot.ccu.edu.tw
SUMMARY:2019人工智慧黑客松─自駕車、醫療影像、精準農業
DESCRIPTION:2019年的暑假，你要……\n一個人邊緣地度過?\n懶懶地當顆沙發馬鈴薯?\n每天不知道過到幾月幾號星期幾的終極耍廢人生? \n不如快報名「2019人工智慧黑客松─自駕車、醫療影像、精準農業」!!\n只要和我們共同度過這充實的一天，即可獲得參賽證明及紀念品!\n得獎者更有獲獎獎狀及$1\,000~$10\,000不等的獎金! \n快揪朋友們一起組隊報名，讓你2019的夏天跟別人不一樣~\n報名表單：https://docs.google.com/forms/d/e/1FAIpQLSecwtQJ9XNfakjfFLMNbGZvY8Kt6Nzg4iuU9G8x38RFmcYzLA/viewform?vc=0&c=0&w=1 \n「2019人工智慧黑客松─自駕車、醫療影像、精準農業」\n2019 Artificial Intelligence Hackathon ─ Autonomous Driving\, Farming\, and Medicine \n競賽時間：2019/08/29 星期四\n競賽地點：國立中正大學\n競賽題目：\n1. 醫療影像—利用「眼底螢光血管攝影」進行「息肉狀脈絡膜血管病變」的早期篩檢\n2. 自駕車—基於光達與視訊之高解析度場景深度預測\n3. 精準農業—辨識植物病蟲害 \n報名期限：即日起~2019/07/10 \n競賽獎金：\n第一名(1組)：新台幣10\,000元\n第二名(1組)：新台幣6\,000元\n第三名(2組)：新台幣3\,000元\n佳作(3組)：新台幣1\,000元 \n更多內容請洽官網：http://www2.cs.ccu.edu.tw/~ci103u/AI/\nFB粉絲專頁：https://is.gd/XMHeE4 \n如有任何疑問，歡迎洽詢國立中正大學 智慧生活研究中心 專任助理 黃小姐。\n聯絡信箱：asttzuyi@ccu.edu.tw\n聯絡電話：05-2720411轉分機33147、05-3106247
URL:https://airobot.ccu.edu.tw/event/2019%e4%ba%ba%e5%b7%a5%e6%99%ba%e6%85%a7%e9%bb%91%e5%ae%a2%e6%9d%be%e2%94%80%e8%87%aa%e9%a7%95%e8%bb%8a%e3%80%81%e9%86%ab%e7%99%82%e5%bd%b1%e5%83%8f%e3%80%81%e7%b2%be%e6%ba%96%e8%be%b2%e6%a5%ad/
LOCATION:中正大學智慧機器人自造基地\, 民雄鄉大學路一段168號\, 嘉義縣\, 62102\, 台灣
CATEGORIES:競賽
ATTACH;FMTTYPE=image/jpeg:https://airobot.ccu.edu.tw/wp-content/uploads/2019/08/海報.jpg
END:VEVENT
BEGIN:VEVENT
DTSTART;VALUE=DATE:20180610
DTEND;VALUE=DATE:20180611
DTSTAMP:20260420T231925
CREATED:20180601T070712Z
LAST-MODIFIED:20180609T010252Z
UID:147-1528588800-1528675199@airobot.ccu.edu.tw
SUMMARY:2018 Fintech 機器人自造競賽 (決賽)
DESCRIPTION:Fintech機器人自造競賽活動，以推廣金融業與會計業的智慧機器人應用，包含當前最夯的人工智慧應用、法遵科技(Regtech)與電腦稽核應用為主軸，期望培養人工智慧時代的銀行業、保險業、證卷期貨業、數位現金與第三方支付、會計師業之智慧機器自造人才。賽事分為4大主題：銀行組、保險組、數位現金與第三方支付組、證券期貨組，結合創意與研發，並分為創意類與研發類來做競賽。 \n\n創意類：高中生與大專以上學生皆可報名，主要以微電影拍攝作為競賽內容。\n研發類：限大專以上學生報名，主要以完成有相關軟體機器人或實體機器人作品為競賽內容。\n\n競賽活動將分別進行報名初審、晉級複賽、決賽；初、複賽在中正大學智慧機器人自造基地辦理，最後經由選拔晉級後的隊伍，決賽在南科AI_ROBOT自造基地進行。 \n詳細競賽之組隊方式及規則、自造機器人作品規則、隊伍需準備物品、競賽評分方式、及各式獎勵請參考報名簡章(https://goo.gl/LYZ9oL) \n  \n線上報名：https://goo.gl/LYZ9oL \n報名簡章：https://goo.gl/Rwmtgd
URL:https://airobot.ccu.edu.tw/event/2018-fintech-%e6%a9%9f%e5%99%a8%e4%ba%ba%e8%87%aa%e9%80%a0%e7%ab%b6%e8%b3%bd-%e6%b1%ba%e8%b3%bd/
LOCATION:中正大學智慧機器人自造基地\, 民雄鄉大學路一段168號\, 嘉義縣\, 62102\, 台灣
CATEGORIES:競賽
ATTACH;FMTTYPE=image/jpeg:https://airobot.ccu.edu.tw/wp-content/uploads/2018/06/2018FinTech機器人自造競賽DM-2.jpg
ORGANIZER;CN="%E8%A3%BD%E5%95%86%E6%95%B4%E5%90%88%E7%A0%94%E7%A9%B6%E4%B8%AD%E5%BF%83(%E7%8E%8B%E5%B0%8F%E5%A7%90)":MAILTO:deptcmca.01@gmail.com
END:VEVENT
BEGIN:VEVENT
DTSTART;VALUE=DATE:20180602
DTEND;VALUE=DATE:20180603
DTSTAMP:20260420T231925
CREATED:20180601T040545Z
LAST-MODIFIED:20180609T010229Z
UID:126-1527897600-1527983999@airobot.ccu.edu.tw
SUMMARY:2018 Fintech 機器人自造競賽 (初賽/複賽)
DESCRIPTION:Fintech機器人自造競賽活動，以推廣金融業與會計業的智慧機器人應用，包含當前最夯的人工智慧應用、法遵科技(Regtech)與電腦稽核應用為主軸，期望培養人工智慧時代的銀行業、保險業、證卷期貨業、數位現金與第三方支付、會計師業之智慧機器自造人才。賽事分為4大主題：銀行組、保險組、數位現金與第三方支付組、證券期貨組，結合創意與研發，並分為創意類與研發類來做競賽。 \n\n創意類：高中生與大專以上學生皆可報名，主要以微電影拍攝作為競賽內容。\n研發類：限大專以上學生報名，主要以完成有相關軟體機器人或實體機器人作品為競賽內容。\n\n競賽活動將分別進行報名初審、晉級複賽、決賽；初、複賽在中正大學智慧機器人自造基地辦理，最後經由選拔晉級後的隊伍，決賽在南科AI_ROBOT自造基地進行。 \n詳細競賽之組隊方式及規則、自造機器人作品規則、隊伍需準備物品、競賽評分方式、及各式獎勵請參考報名簡章(https://goo.gl/LYZ9oL) \n  \n線上報名：https://goo.gl/LYZ9oL \n報名簡章：https://goo.gl/Rwmtgd
URL:https://airobot.ccu.edu.tw/event/2018-fintech-%e6%a9%9f%e5%99%a8%e4%ba%ba%e8%87%aa%e9%80%a0%e7%ab%b6%e8%b3%bd-%e5%88%9d%e8%b3%bd-%e8%a4%87%e8%b3%bd/
LOCATION:中正大學智慧機器人自造基地\, 民雄鄉大學路一段168號\, 嘉義縣\, 62102\, 台灣
CATEGORIES:競賽
ATTACH;FMTTYPE=image/jpeg:https://airobot.ccu.edu.tw/wp-content/uploads/2018/06/2018FinTech機器人自造競賽DM-2.jpg
ORGANIZER;CN="%E8%A3%BD%E5%95%86%E6%95%B4%E5%90%88%E7%A0%94%E7%A9%B6%E4%B8%AD%E5%BF%83(%E7%8E%8B%E5%B0%8F%E5%A7%90)":MAILTO:deptcmca.01@gmail.com
END:VEVENT
END:VCALENDAR